BEGIN:VCALENDAR
VERSION:2.0
PRODID:-//Patriot Guard Riders - ECPv5.6.0//NONSGML v1.0//EN
CALSCALE:GREGORIAN
METHOD:PUBLISH
X-WR-CALNAME:Patriot Guard Riders
X-ORIGINAL-URL:https://www.patriotguard.org
X-WR-CALDESC:Events for Patriot Guard Riders
BEGIN:VTIMEZONE
TZID:America/New_York
BEGIN:DAYLIGHT
TZOFFSETFROM:-0500
TZOFFSETTO:-0400
TZNAME:EDT
DTSTART:20160313T070000
END:DAYLIGHT
BEGIN:STANDARD
TZOFFSETFROM:-0400
TZOFFSETTO:-0500
TZNAME:EST
DTSTART:20161106T060000
END:STANDARD
END:VTIMEZONE
BEGIN:VEVENT
DTSTART;TZID=America/New_York:20160618T090000
DTEND;TZID=America/New_York:20160618T110000
DTSTAMP:20210513T184826
CREATED:20160618T130000Z
LAST-MODIFIED:20191201T145010Z
UID:411205-1466240400-1466247600@www.patriotguard.org
SUMMARY:Maj Dwain C. Douglas\, USAF (RET)\, Vietnam / Keller
DESCRIPTION:Patriot’s Name:  Major Dwain Clark Douglas\nMilitary Branch:  United States Air Force\nClassification:  Retired From Military\nAdditional Military Info:  Vietnam Veteran; \nHe was an Air Force Fighter Pilot and Top Gun in his Squadron. He served 20 years in the United States Air Force. He received numerous awards including Three Distinguished Flying Crosses\, 18 Air Medals\, and the Republic of South Vietnam Commendation Medal as a result of over 333 missions flown during the Vietnam War. \nLink To Obituary:\nhttp://www.scogginsfuneralhome.com/obituaries/obituary-listings?obId=870427#\n/obituaryInfo \nMission Ride Captain:\nMike Moore\, evermoore58@gmail.com\, (817) 228-3240 \nRide Captain #2:\nGary “Catfish” Dunn\, catfishdunn@gmail.com\, (972) 979-1176 \nMission Summary:\nLong procession to cemetery and flag line at cemetery for graveside interment service. \nPART 1:  Procession to cemetery\nMission Date:  Jun 18\, 2016 – Saturday\nStaging Time:  08:15\nBriefing Time:  08:30\nIn Position Time Or KSU:  08:45 \nDetails Of Part 1:\nRiders will meet at the staging point\, be briefed about our hero and receive a safety briefing prior to the procession. The family has asked the PGR to participate in a very long procession from the city of Keller to a cemetery south of Campbell\, (approx. 1 hr. 45 min) and to stand a flag line there for the interment service. Keller Police Officers will be provided to get us\nonto HWY 114 only. There will be no LEO after that. We will be traveling at 60 mph or less so we can fly big flags safely. \nName Of Staging Point:\nFrost Bank Financial Center (east side parking lot)\n1240 Keller Pkwy\nKeller\, Texas 76248 \nPART 2:  Flag line at interment service\nMission Date:  Jun 18\, 2016 – Saturday\nStaging Time:  10:00\nBriefing Time:  10:15\nIn Position Time Or KSU:  10:30\nService Start Time:  11:00 \nDetails Of Part 2:\nThose riders not participating in Part One will stage at the cemetery to be briefed and to establish a flag line and await the arrival of the procession. Riders in the procession will quickly dismount and join the flag line. Riders will stand tall and silent until the completion of the service\, after which flags will be returned to the flag vehicle. Riders will then be debriefed and dismissed. \nName Of Staging Point:\nPrairie Valley Cemetery\n2417 FM 513 S.\nCampbell\, Texas
URL:https://www.patriotguard.org/mission/maj-dwain-c-douglas-usaf-ret-vietnam-keller/
CATEGORIES:Archive
END:VEVENT
END:VCALENDAR