BEGIN:VCALENDAR
VERSION:2.0
PRODID:-//Patriot Guard Riders - ECPv5.3.2.1//NONSGML v1.0//EN
CALSCALE:GREGORIAN
METHOD:PUBLISH
X-WR-CALNAME:Patriot Guard Riders
X-ORIGINAL-URL:https://www.patriotguard.org
X-WR-CALDESC:Events for Patriot Guard Riders
BEGIN:VTIMEZONE
TZID:America/New_York
BEGIN:DAYLIGHT
TZOFFSETFROM:-0500
TZOFFSETTO:-0400
TZNAME:EDT
DTSTART:20130310T070000
END:DAYLIGHT
BEGIN:STANDARD
TZOFFSETFROM:-0400
TZOFFSETTO:-0500
TZNAME:EST
DTSTART:20131103T060000
END:STANDARD
END:VTIMEZONE
BEGIN:VEVENT
DTSTART;TZID=America/New_York:20130621T090000
DTEND;TZID=America/New_York:20130621T110000
DTSTAMP:20210403T112019
CREATED:20130621T130000Z
LAST-MODIFIED:20191201T120202Z
UID:385679-1371805200-1371812400@www.patriotguard.org
SUMMARY:Maj Charles Koch\, USMC (AD)\, OIF Veteran
DESCRIPTION:Updated 20 JUN 13 @ 0015 EDT Leesa McGlohon \nRIDE ITINERARY FROM THE NORTH FOR FRIDAY AM – 21JUN13 \nMAJOR CHARLES J. KOCH – TOMS RIVER\, NJ  RIDE CAPTAIN = PAPPY \n \n1) Bergen County Harley/Davidson\, Essex Street\, Rochelle Park\, NJ. KSU = 0715 \n\n2) Brookdale Service Area\, Garden State Parkway South\, mile marker 153. Riders should meet in the south end of the rest area near the gas station. KSU = 0745 \n\n3) 0820 Iselin Rest Area. Garden State Parkway South\, mile marker 132. Riders should meet in  the south end of the rest area just before the re-entry onto the GSP. This will be a drive through for the most part. We will also be stopping at Cheesquake\, so if you miss us\, come right down to the rest area. KSU = 815 \n\n4) Cheesequake Rest Area\, Garden State Parkway South\, mile marker 123.6. Riders should meet in the parking lot on the south end of the main building. There will be enough time here for a quick pit stop. KSU = 0830. \n\n5) Monmouth Rest Area\, Garden State Parkway South\, mile marker 100.5. Riders should meet in the southern parking area at the south end of the main building. We will leave the rest area and head straight to the funeral home in Toms River. KSU = 0900 \n\nAll times will be adhered to on the route. There might be a little wiggle room\, but riders should not plan on it. I generally stay pretty close to the KSU times\, so being a little early is not a bad thing. Weather should not be an issue unless you don’t like sunshine. The Major was a 21 year Veteran of the USMC and an OIF Veteran. If you are going to be caging it\, bring some water in a cooler in case it starts to get a bit warm. Everyone ride safe and we’ll see you Friday AM. \n\nPappy \nJack “Pappy” Shinn: 201-250-1421 \nDon Klein: 908-334-7719 \n*************************************************************************************** \nMAJOR CHARLES KOCH\, USMC\, OIF VETERAN – TOMS RIVER\, NJ 21JUN13 \nThe family of Major Charles Koch\, USMC\, OIF Veteran\, has asked the Patriot Guard Riders to help celebrate his life and service on Friday\, 21JUN13 in Toms River\, NJ. Major Koch was on leave in Virginia when he passed away. The mission will consist of the following details \n1) The PGR will meet the family at the Anderson and Campbell Funeral Home\, 703 Main Street\, Toms Rive\, NJ 08753. Parking for the bikes will be in the south side lot of the funeral home.  The family and Major Koch will leave the funeral home at 1030 for a procession to the church. The PGR will have a flag line at the funeral home (set by 10:00 am) when the family arrives and will man the flag line until the Major is transferred to the vehicle for the escort to the church. \n2) Mass will be celebrated at 1100 at St. Joseph’s Roman Catholic Church\, 685 Hooper Avenue\, Toms River\, NJ. The PGR will assemble a flag line upon arrival at the church and stay at the church until the Major is again transferred from the church to the vehicle for the escort to the cemetery. \n3) Major Koch will be interred at the Ocean County Memorial Park\, 1722 Silverton Road\, Toms River\, NJ. Major Koch will be buried with full military honors  and the PGR will participate in those ceremonies. \nRC: Jack “Pappy” Shinn: 201-250-1421 \nDon Klein: 908-334-7719
URL:https://www.patriotguard.org/mission/maj-charles-koch-usmc-ad-oif-veteran/
CATEGORIES:Archive
END:VEVENT
END:VCALENDAR