BEGIN:VCALENDAR
VERSION:2.0
PRODID:-//Patriot Guard Riders - ECPv5.6.0//NONSGML v1.0//EN
CALSCALE:GREGORIAN
METHOD:PUBLISH
X-WR-CALNAME:Patriot Guard Riders
X-ORIGINAL-URL:https://www.patriotguard.org
X-WR-CALDESC:Events for Patriot Guard Riders
BEGIN:VTIMEZONE
TZID:America/New_York
BEGIN:DAYLIGHT
TZOFFSETFROM:-0500
TZOFFSETTO:-0400
TZNAME:EDT
DTSTART:20210314T070000
END:DAYLIGHT
BEGIN:STANDARD
TZOFFSETFROM:-0400
TZOFFSETTO:-0500
TZNAME:EST
DTSTART:20211107T060000
END:STANDARD
END:VTIMEZONE
BEGIN:VEVENT
DTSTART;VALUE=DATE:20210514
DTEND;VALUE=DATE:20210515
DTSTAMP:20210513T211932
CREATED:20210512T013449Z
LAST-MODIFIED:20210512T013449Z
UID:576992-1620950400-1621036799@www.patriotguard.org
SUMMARY:Mack Martell McCarthy
DESCRIPTION:Honor Mission\nMack Martell McCarthy \, Retired\nUSAF\nBiloxi\, Mississippi – 05-14-21\n\n\n\nABOUT THE MISSION: \nWe are sad to report the death of US CMSgt Mack Martell McMarthy (68). Mr. McCarthy’s awards include Air Force Commendation Medal\, AF Achievement Medal w/ 1 Bronze OLC\, Meritorious Service Medal w/ 1 silver and 1 bronze OLC\, NCO Professional Military Education Ribbon w/ 2 bronze OLCs\, Small Arms Expert Markmanship Ribbon w/ 1 bronze start\, Humanitarian Service Medal\, AF Longevity Service Award w/ 1 silver and 1 bronze OLC\, National Defense Service Medal w/ 2 bronze stars\, AF Overseas Long Tour Ribbon\, Overseas Short Tour Ribbon\, AF Training Ribbon\, Coast Guard Meritorious Unit Commendation\, AF Outstanding Unit Award w/ 1 silver and 4 bronze OLCs\, and the AF Good Conduct Medal w/ 1 silver and 4 bronze OLCs. The family of Mr. McCarthy have requested the Patriot Guard Riders help honor and pay respect for his service to our great country.\n\n\nPRIMARY STAGING DETAILS: 05-14-21 \nStaging Time: 10:15am  \nRiemann Family Funeral Home\n274 Beauvoir Rd.\nBiloxi\, Mississippi\n\n\nRide Captain: \nBob Harwood\n228-243-5446\n\n\nSpecial Instructions: \nVisitation — We will stand a silent flag line for Mr. McCarthy during his visitation from 10:30 a.m.- 1:00 p.m. Family visitation is from 10:30-11 a.m.\nEscort and Burial Service — At approx. 2:05 p.m. we will depart to escort Mr. McCarthy to Biloxi National Cemetery for a 2:30 p.m. committal service.\nNote: During the escort\, we are allowed as many as want to participate\, however due to current BNC guidelines we are limited to 10 people for the burial service.\nRC will determine the 10 that stay at BNC.\nMasks are required at BNC.\n\n\nFlags & Water:\nFlags will be provided\nIf you have large bike flags\, please bring them.\nWater WILL NOT be provided\, please bring your own.\n\n\n\nSubmitted By: Robert Harwood \nPosition: Mississippi Ride Captain \n\nNote: You do not have to own/ride a motorcycle or be a veteran to join\, and membership is Free. The only requirement is RESPECT! To subscribe to receive mission notices\, log into the National Site and click on the Members tab at the top. Select the Subscribe to PGR Missions option.\n Print This Page
URL:https://www.patriotguard.org/mission/mack-martell-mccarthy/
CATEGORIES:Honor Mission
END:VEVENT
END:VCALENDAR