BEGIN:VCALENDAR
VERSION:2.0
PRODID:-//Patriot Guard Riders - ECPv5.3.2.1//NONSGML v1.0//EN
CALSCALE:GREGORIAN
METHOD:PUBLISH
X-WR-CALNAME:Patriot Guard Riders
X-ORIGINAL-URL:https://www.patriotguard.org
X-WR-CALDESC:Events for Patriot Guard Riders
BEGIN:VTIMEZONE
TZID:America/New_York
BEGIN:DAYLIGHT
TZOFFSETFROM:-0500
TZOFFSETTO:-0400
TZNAME:EDT
DTSTART:20210314T070000
END:DAYLIGHT
BEGIN:STANDARD
TZOFFSETFROM:-0400
TZOFFSETTO:-0500
TZNAME:EST
DTSTART:20211107T060000
END:STANDARD
END:VTIMEZONE
BEGIN:VEVENT
DTSTART;TZID=America/New_York:20210401T000000
DTEND;TZID=America/New_York:20210402T000000
DTSTAMP:20210402T044352
CREATED:20210330T122057Z
LAST-MODIFIED:20210330T122057Z
UID:573315-1617235200-1617321600@www.patriotguard.org
SUMMARY:Lynn Skocdopole
DESCRIPTION:Honor Mission\nLynn Skocdopole\, Veteran\nUSA – Vietnam\nDurant\, Oklahoma / Fort Gibson\, Oklahoma – 04-01-21 / 04-02-21\n\n\n\n\nABOUT THE MISSION: \nThe Patriot Guard Riders to stand a flag line at Lynn Skocdopole USA Vietnam Veteran funeral service. Interment will be at Fort Gibson National Cemetery Friday April 2 2021 at 11:00am.\n\n\nPRIMARY STAGING DETAILS: 04-01-21 \nStaging Time: 12:45 PM \nSilo Baptist Church\n1379 Church Rd.\nDurant\, Oklahoma 74701\n\n\nRide Captain: \nJamie”Bloodhound” Stclair\nacornerd@cherokeetel.com\n580-380-1443\n\n\nSpecial Instructions: \nThis is a multi-city mission on two different days.\n\nMandatory Safety briefing: 1:15pm\nFlag line: 1:30pm\nWeather :Temp Low 40 High 69 Sunny\n\n\nFlags & Water:\nFlags will be provided\nLarge Bike Flags will NOT be needed.\nWater WILL NOT be provided\, please bring your own.\n\nSTAGING #2 DETAILS: 04-02-21 \nStaging Time: 10:00 AM \nFort Gibson National Cemetery\n1423 Cemetery Rd.\nFort Gibson\, Oklahoma 74434\n\n\nRide Captain: \nRon Moseley\nsooner46@att.net\n918.269.6767\n\n\nSpecial Instructions: \nMandatory Safety briefing: 10:15 am\nFlag line: 10:30am\n\n\nFlags & Water:\nFlags will be provided\nLarge Bike Flags will NOT be needed.\nWater WILL NOT be provided\, please bring your own.\n\n\n\nSubmitted By: Ronnie Smith \nPosition: Oklahoma Ride Captain \n\nNote: You do not have to own/ride a motorcycle or be a veteran to join\, and membership is Free. The only requirement is RESPECT! To subscribe to receive mission notices\, log into the National Site and click on the Members tab at the top. Select the Subscribe to PGR Missions option.\n Print This Page
URL:https://www.patriotguard.org/mission/lynn-skocdopole/
CATEGORIES:Honor Mission
END:VEVENT
END:VCALENDAR