BEGIN:VCALENDAR
VERSION:2.0
PRODID:-//Patriot Guard Riders - ECPv5.3.2.1//NONSGML v1.0//EN
CALSCALE:GREGORIAN
METHOD:PUBLISH
X-WR-CALNAME:Patriot Guard Riders
X-ORIGINAL-URL:https://www.patriotguard.org
X-WR-CALDESC:Events for Patriot Guard Riders
BEGIN:VTIMEZONE
TZID:America/New_York
BEGIN:DAYLIGHT
TZOFFSETFROM:-0500
TZOFFSETTO:-0400
TZNAME:EDT
DTSTART:20190310T070000
END:DAYLIGHT
BEGIN:STANDARD
TZOFFSETFROM:-0400
TZOFFSETTO:-0500
TZNAME:EST
DTSTART:20191103T060000
END:STANDARD
END:VTIMEZONE
BEGIN:VEVENT
DTSTART;VALUE=DATE:20190603
DTEND;VALUE=DATE:20190604
DTSTAMP:20210405T081819
CREATED:20190602T014953Z
LAST-MODIFIED:20190602T014953Z
UID:163304-1559520000-1559606399@www.patriotguard.org
SUMMARY:Lugene Jones
DESCRIPTION:Honor Mission\nLugene Jones\, Veteran\nUSA –\nMULTI-CITY\, MULTI-STATE – 06-03-19\n\n\n\nABOUT THE MISSION: \nLugene served in the United States Army.\n\n\nPRIMARY STAGING DETAILS: 06-03-19 \nStaging Time: 09:15 AM\n \nBurton Funeral Home\n717 Hwy 49 W\nJefferson\, Texas 75657\nMap\n\n\nRide Captain: \nTed Beauchamp\n54-522-5141\ntbeauch1945@gmail.com\n\n\nSpecial Instructions: \nAt the funeral home from 9:15 to 9:30 with a riders meeting at 9:40.\nWe will be escorting from the funeral home to the Louisiana state line\, with final destination at the National Cemetery. You may continue on\, or return at the state line. It will be determined if we fly flags that morning\, after route to La. is discussed with LEO. Directions to the cemetery will be given by the Ride Captain.\nPlease remain flexible as to the requirements of the mission. (SEMPER GUMBY)\n\n\nFlags & Water:\nFlags will be provided\nIf you have large bike flags\, please bring them.\nWater will be provided.\n\nSTAGING #2 DETAILS: 06-03-19 \nStaging Time: 10:30 AM\n \n9510 Greenwood Rd\nGreenwood\, Louisiana 71033\nMap\n\n\nRide Captain: \nTed Beauchamp\n254-522-5141\ntbeauch1945@gmail.com\n\n\nSpecial Instructions: \nMeet with Northwest PGR for transfer of duty.\n\n\nFlags & Water:\nFlags will not be provided\nIf you have large bike flags\, please bring them.\nWater WILL NOT be provided\, please bring your own.\n\n\n\nSubmitted By: Michael Eubank \nPosition: Texas Deputy State Captain \n\nNote: You do not have to own/ride a motorcycle or be a veteran to join\, and membership is Free. The only requirement is RESPECT! To subscribe to receive mission notices\, log into the National Site and click on the Members tab at the top. Select the Subscribe to PGR Missions option.\n Print This Page
URL:https://www.patriotguard.org/mission/lugene-jones-2/
CATEGORIES:Honor Mission
END:VEVENT
END:VCALENDAR