BEGIN:VCALENDAR
VERSION:2.0
PRODID:-//Patriot Guard Riders - ECPv5.6.0//NONSGML v1.0//EN
CALSCALE:GREGORIAN
METHOD:PUBLISH
X-WR-CALNAME:Patriot Guard Riders
X-ORIGINAL-URL:https://www.patriotguard.org
X-WR-CALDESC:Events for Patriot Guard Riders
BEGIN:VTIMEZONE
TZID:America/New_York
BEGIN:DAYLIGHT
TZOFFSETFROM:-0500
TZOFFSETTO:-0400
TZNAME:EDT
DTSTART:20160313T070000
END:DAYLIGHT
BEGIN:STANDARD
TZOFFSETFROM:-0400
TZOFFSETTO:-0500
TZNAME:EST
DTSTART:20161106T060000
END:STANDARD
END:VTIMEZONE
BEGIN:VEVENT
DTSTART;TZID=America/New_York:20160812T090000
DTEND;TZID=America/New_York:20160812T110000
DTSTAMP:20210512T041504
CREATED:20160812T130000Z
LAST-MODIFIED:20191201T143642Z
UID:409967-1470992400-1470999600@www.patriotguard.org
SUMMARY:LtCol Edward P. Flanagan\, USMC(RET)
DESCRIPTION:Please note that due to ongoing OPSEC concerns\, mission details are not shown in this posting. All specific details and updates have been sent to members directly via their e-mail address on file. \nRiders & Patriots: \nWe have been requested by the family to stand for Edward P. Flanagan\, Lieutenant Colonel\, Retired\, USMC and a Vietnam veteran.  This was a sudden end to the life of a true American who served his country and had to deal with the stresses of that war. \nWhen/Where:\nFriday\, August 12\, 2016 \nMattituck / Calverton\, NY \nLRC:\nRich Pinnavaia\nrichpinn@optonline.net \nIf going to church please arrive by time shown in email notification . If responding to Calverton arrive by time shown in email notification. Remember to bring your flags as PGR flags not on site at either location. Let us honor this veteran now as he was not honored coming home.
URL:https://www.patriotguard.org/mission/ltcol-edward-p-flanagan-usmcret/
END:VEVENT
END:VCALENDAR