BEGIN:VCALENDAR
VERSION:2.0
PRODID:-//Patriot Guard Riders - ECPv5.6.0//NONSGML v1.0//EN
CALSCALE:GREGORIAN
METHOD:PUBLISH
X-WR-CALNAME:Patriot Guard Riders
X-ORIGINAL-URL:https://www.patriotguard.org
X-WR-CALDESC:Events for Patriot Guard Riders
BEGIN:VTIMEZONE
TZID:America/New_York
BEGIN:DAYLIGHT
TZOFFSETFROM:-0500
TZOFFSETTO:-0400
TZNAME:EDT
DTSTART:20160313T070000
END:DAYLIGHT
BEGIN:STANDARD
TZOFFSETFROM:-0400
TZOFFSETTO:-0500
TZNAME:EST
DTSTART:20161106T060000
END:STANDARD
END:VTIMEZONE
BEGIN:VEVENT
DTSTART;TZID=America/New_York:20160709T090000
DTEND;TZID=America/New_York:20160709T110000
DTSTAMP:20210512T234053
CREATED:20160709T130000Z
LAST-MODIFIED:20191201T144550Z
UID:410814-1468054800-1468062000@www.patriotguard.org
SUMMARY:LTC Thomas A. Ford\, Jr.\, 82\,  USA (RET)
DESCRIPTION:Fellow Riders\, \nIt is with heavy heart that I must inform you that American has lost another True American Hero.\n\nThe family of LTC Thomas A. Ford\, Jr. (Ret) has requested the Patriot Guard to stand a Silent Flag Line for their loved one.  Mr. Ford passed away on 26 June 2016\, at the age of 82.\n\nHe served in the U.S. Army as a transportation office where he commanded 5 different units in Germany during the Cold War.  He also served at Eglin\, Florida during the Cuban Missile Crisis then back to Germany.  After Germany\, he had a tour of duty in Vietnam. His awards and commendations are unknown at this time. \nAfter the Army he returned to Mobile and was very active in various Mobile organizations.  Past President & 35+ year member of Friendly Sons of St Patrick\, Float Captain for Order of Inca for 30+ years\, Member of Fifty Funny Fellows\, American Legion Post 3\, VFW Post 49\, Mobile Jaycees\, Maryland Jaycees\, and many more. \nThe Patriot Guard Riders will be honored to stand a SILENT FLAG LINE for this True Patriot and Hero. \nLEO – Yes.  \nVisitation: 1030 hrs. – 1200 hrs. – Radney Funeral Home\, Dauphin Street\, Mobile\, AL\n\nThere will be a LEO from Radney to St Joan of Arc Catholic Church and to Catholic Cemetery.\n\nFuneral Service:  1300 hrs. – St. Joan of Arc Catholic Church – 1260 Elmira St.\, Mobile\, AL.\n\nUpon completion of the funeral service we will escort Mr. Christen\, family and friends to\nCatholic Cemetery\, 1700 Dr. Martin Luther King Blvd\, Mobile\, AL\, for Interment. \nMOBILE COUNTY STAGING\nLocation:  BP Station (Corner of Dauphin St and Springdale Dr.)\nTime:         1000 hrs.\nBriefing:    1015 hrs.\nKSU:          1025 hrs.\nRCIC:    Lloyd Pursley\, DRC – (251) 422-0696\nFlags:     Lloyd Pursley\, DRC – (251) 422-0696 \nBALDWIN COUNTY STAGING\nLocation:  Spanish Fort Overlook\nTime:        0900 hrs.\nBriefing:   N/A\nKSU:        0930 hrs.\nRC:       Ed “Juju” Lessard\, RC – (251) 978-6215
URL:https://www.patriotguard.org/mission/ltc-thomas-a-ford-jr-82-usa-ret/
CATEGORIES:Archive
END:VEVENT
END:VCALENDAR