BEGIN:VCALENDAR
VERSION:2.0
PRODID:-//Patriot Guard Riders - ECPv5.6.0//NONSGML v1.0//EN
CALSCALE:GREGORIAN
METHOD:PUBLISH
X-WR-CALNAME:Patriot Guard Riders
X-ORIGINAL-URL:https://www.patriotguard.org
X-WR-CALDESC:Events for Patriot Guard Riders
BEGIN:VTIMEZONE
TZID:America/New_York
BEGIN:DAYLIGHT
TZOFFSETFROM:-0500
TZOFFSETTO:-0400
TZNAME:EDT
DTSTART:20160313T070000
END:DAYLIGHT
BEGIN:STANDARD
TZOFFSETFROM:-0400
TZOFFSETTO:-0500
TZNAME:EST
DTSTART:20161106T060000
END:STANDARD
END:VTIMEZONE
BEGIN:VEVENT
DTSTART;TZID=America/New_York:20160604T090000
DTEND;TZID=America/New_York:20160604T110000
DTSTAMP:20210513T152944
CREATED:20160604T130000Z
LAST-MODIFIED:20191201T025925Z
UID:302189-1465030800-1465038000@www.patriotguard.org
SUMMARY:LTC Michael Roy Sizemore\, USAF (Ret)
DESCRIPTION:The family of LTC Michael Roy Sizemore has asked the Patriot Guard to stand in honor of his long service to this nation. We are pleased to do so. \nLieutenant Colonel Sizemore enlisted in his home state of Kentucky and served honorably and unselfishly in the US Air Force for 23 years (1979-2002)\, including duty during Operation Desert Storm. His last duty station was at Warner Robins AFB\, from where he retired. \nWe will stand a one-hour flag line for visitation prior to the funeral service and then assist in the escort of LTC Sizemore\, with LEO support\, to Magnolia Gardens for interment services with full military honors. \nSee obituary>http://www.mcculloughfh.com/obituary/Lt.-Col.-Michael-Roy-Sizemore-USAF-Ret./The-Villages-FL/1618295 \nStaging:\n12:30 PM\, Saturday\, 4 June 2016\nMcCullough Funeral Home\n417 South Houston Lake Road\nWarner Robins\, GA 31088 \nRCIC:\nGeorge “General” Patton\ngeorgepattonjr44@att.net\n(478) 719-7396
URL:https://www.patriotguard.org/mission/ltc-michael-roy-sizemore-usaf-ret/
END:VEVENT
END:VCALENDAR