BEGIN:VCALENDAR
VERSION:2.0
PRODID:-//Patriot Guard Riders - ECPv5.6.0//NONSGML v1.0//EN
CALSCALE:GREGORIAN
METHOD:PUBLISH
X-WR-CALNAME:Patriot Guard Riders
X-ORIGINAL-URL:https://www.patriotguard.org
X-WR-CALDESC:Events for Patriot Guard Riders
BEGIN:VTIMEZONE
TZID:America/New_York
BEGIN:DAYLIGHT
TZOFFSETFROM:-0500
TZOFFSETTO:-0400
TZNAME:EDT
DTSTART:20160313T070000
END:DAYLIGHT
BEGIN:STANDARD
TZOFFSETFROM:-0400
TZOFFSETTO:-0500
TZNAME:EST
DTSTART:20161106T060000
END:STANDARD
END:VTIMEZONE
BEGIN:VEVENT
DTSTART;TZID=America/New_York:20160630T090000
DTEND;TZID=America/New_York:20160630T110000
DTSTAMP:20210512T230813
CREATED:20160630T130000Z
LAST-MODIFIED:20191201T144748Z
UID:410993-1467277200-1467284400@www.patriotguard.org
SUMMARY:LTC\, Leonard C. DeWitt\, 95\, USA(RET)\, WWII
DESCRIPTION:[FONT=&amp]Ret. LTC\, Leonard C. DeWitt\, 95\nUS Army WWII\, Korean War\nMcMinnville\, OR\n30/JUN/16[/FONT][FONT=&amp]\n[/FONT]\n\n[FONT=&amp]\nLadies  and Gentlemen of the Patriot Guard Riders\, we have been requested by  the family to stand for Retired Lieutenant Colonel Leonard C. DeWitt\,  95.  LTC DeWitt served with the 41st “Sunset” Division.  While in New  Guinea\, DeWitt used every weapon he could get his hands on\, including  his helmet\, to go after the enemy.  He went above and beyond and showed  “extraordinary heroism and coolness under fire” earning a nomination  from commanders for a Medal of Honor.  For unknown reasons he was  awarded a Distinguished Service Cross – the Army’s second highest  honor.  He was recalled to service for the Korean War where he earned a  Purple Heart.  He returned to active duty a third time and did  intelligence work in Europe\, retiring in 1965.  New MOH nomination  paperwork has been submitted and is awaiting a determination.  Please  join us as we help support his family\, pay our respects\, and honor his  many years of service to our nation. \nMission Date: Thursday\, 30/Jun/16 \nRide Captain:Smokie Parrack  rwpjr1972@gmail.com \nStaging Location: Saint James Catholic Church – 1145 SE 1st St\, McMinnville\, OR \nStaging Time: 9:45 am[/FONT]\n[FONT=&amp]Briefing:[/FONT][FONT=&amp]  10:10 am \nFlag line Set: 10:20 am \nService Begins: 11:00 am[/FONT] \n[FONT=&amp]Once the service begins\, the PGR flag line will break down and proceed to the cemetery for the Military Honor portion.[/FONT] \n[FONT=&amp]Cemetery Location:[/FONT][FONT=&amp] Evergreen Memorial Park – 7961 99 W McMinnville\, Oregon[/FONT]
URL:https://www.patriotguard.org/mission/ltc-leonard-c-dewitt-95-usaret-wwii/
CATEGORIES:Archive
END:VEVENT
END:VCALENDAR