BEGIN:VCALENDAR
VERSION:2.0
PRODID:-//Patriot Guard Riders - ECPv5.6.0//NONSGML v1.0//EN
CALSCALE:GREGORIAN
METHOD:PUBLISH
X-WR-CALNAME:Patriot Guard Riders
X-ORIGINAL-URL:https://www.patriotguard.org
X-WR-CALDESC:Events for Patriot Guard Riders
BEGIN:VTIMEZONE
TZID:America/New_York
BEGIN:DAYLIGHT
TZOFFSETFROM:-0500
TZOFFSETTO:-0400
TZNAME:EDT
DTSTART:20160313T070000
END:DAYLIGHT
BEGIN:STANDARD
TZOFFSETFROM:-0400
TZOFFSETTO:-0500
TZNAME:EST
DTSTART:20161106T060000
END:STANDARD
END:VTIMEZONE
BEGIN:VEVENT
DTSTART;TZID=America/New_York:20160705T090000
DTEND;TZID=America/New_York:20160705T110000
DTSTAMP:20210512T224520
CREATED:20160705T130000Z
LAST-MODIFIED:20191201T144611Z
UID:410843-1467709200-1467716400@www.patriotguard.org
SUMMARY:LTC Gary E. Harvey
DESCRIPTION:05 July 2016\nRet. LTC Gary E. Harvey\nU.S. Army\, Vietnam \n\nAnniston\, AL\n\n\n \nThe family LTC Harvey has requested Patriot Guard Riders to stand a flag line and ride with their Hero. \nLTC Harvey served in the U.S. Army with multiple tours in Vietnam. His last military assignment was as Executive Officer at the Anniston Army Depot. Patriot Guard Riders will be honored to ride and stand a flag line for him. \nStaging I: 10:30 AM\, 05 July 2016 (Flag Line for Visitation\, Service starts at 1:00)\nK.L. Brown Memory Chapel\n620 Golden Springs Road\nAnniston\, AL 36207\n\nStaging II: After Service\n   Maple Grove Cemetery\n   4000 US Hwy 431 North\nAnniston\, AL\, 36206 \nWeather: High of 87 & 80% chance of precipitation \nRCIC: Eddy Chapin\n          205-475-1058\n          eddybugn@bellsouth.net
URL:https://www.patriotguard.org/mission/ltc-gary-e-harvey/
CATEGORIES:Archive
END:VEVENT
END:VCALENDAR