BEGIN:VCALENDAR
VERSION:2.0
PRODID:-//Patriot Guard Riders - ECPv5.6.0//NONSGML v1.0//EN
CALSCALE:GREGORIAN
METHOD:PUBLISH
X-WR-CALNAME:Patriot Guard Riders
X-ORIGINAL-URL:https://www.patriotguard.org
X-WR-CALDESC:Events for Patriot Guard Riders
BEGIN:VTIMEZONE
TZID:UTC
BEGIN:STANDARD
TZOFFSETFROM:+0000
TZOFFSETTO:+0000
TZNAME:UTC
DTSTART:20140101T000000
END:STANDARD
END:VTIMEZONE
BEGIN:VEVENT
DTSTART;TZID=UTC:20140726T090000
DTEND;TZID=UTC:20140726T110000
DTSTAMP:20210513T214251
CREATED:20140726T130000Z
LAST-MODIFIED:20200106T010240Z
UID:400474-1406365200-1406372400@www.patriotguard.org
SUMMARY:LTC Anthony S. Randall\, 48\, USANG (AD)
DESCRIPTION:PATRIOT GUARD RIDERS\nYOUR PRESENCE HAS BEEN REQUESTED\nAnthony S. “Tony” Randall\, LTC\nUnited States Army\n26 Jul 2014\nTopeka\, Kansas\nThe family of Tony Randall has requested the Patriot Guard Riders honor their loved one by standing a line at his funeral service TOMORROW at St. David Episcopal Church\, 3916 SW 17th in Topeka\, Kansas.\nLTC Randall was a member of the Kansas National Guard and had been deployed to Iraq in 2008 with the 287th Sustainment Brigade where he was awarded the Bronze Star. He was the Chief of the Environmental Program for the Army National Guard in Kansas. This will be an honor line only. There will be no escort. \nStaging: 26 Jul 14\n1000 hrs. (10:00 am) – Stage at St. David’s Episcopal Church\, 3916 SW 17th\, Topeka\, KS.\n1015 hrs. (10:15 am) – Man Honor Line \nThere will not be a Ride Captain for this mission. However\, all are welcome to come and participate in honoring this Iraq veteran. \nBruce (Medic) Holmes\nbholmes5@kc.rr.com
URL:https://www.patriotguard.org/mission/ltc-anthony-s-randall-48-usang-ad/
CATEGORIES:Archive
END:VEVENT
END:VCALENDAR