BEGIN:VCALENDAR
VERSION:2.0
PRODID:-//Patriot Guard Riders - ECPv5.6.0//NONSGML v1.0//EN
CALSCALE:GREGORIAN
METHOD:PUBLISH
X-WR-CALNAME:Patriot Guard Riders
X-ORIGINAL-URL:https://www.patriotguard.org
X-WR-CALDESC:Events for Patriot Guard Riders
BEGIN:VTIMEZONE
TZID:America/New_York
BEGIN:DAYLIGHT
TZOFFSETFROM:-0500
TZOFFSETTO:-0400
TZNAME:EDT
DTSTART:20160313T070000
END:DAYLIGHT
BEGIN:STANDARD
TZOFFSETFROM:-0400
TZOFFSETTO:-0500
TZNAME:EST
DTSTART:20161106T060000
END:STANDARD
END:VTIMEZONE
BEGIN:VEVENT
DTSTART;TZID=America/New_York:20160728T090000
DTEND;TZID=America/New_York:20160728T110000
DTSTAMP:20210512T224445
CREATED:20160728T130000Z
LAST-MODIFIED:20191201T143959Z
UID:410273-1469696400-1469703600@www.patriotguard.org
SUMMARY:Lt Col Glenn Loveall\, USAF(RET)\, WWII-Vietnam / Ft. Worth
DESCRIPTION:FINAL ITINERARY \nPatriot’s Name:  Lt Col Glenn Loveall\nMilitary Branch(es):	 United States Air Force\nClassification:	Retired From Military\nAdditional Military Info:	WWII and Vietnam Veteran\nLink To Obituary:  http://www.legacy.com/obituaries/dfw/obituary.aspx?n=glenn-ray-loveall&pid=180777951&fhid=4250 \nMission Ride Captain:	Rick Crabb\, randjcrabb@juno.com\, (910) 330-9861 \nRide Captain #2:	Wendy “Hot Lips” Ingersoll\, califbabe55@yahoo.com\,\n(817) 991-9021 \nMission Summary:	We have been invited by the family of LtCol Glenn Loveall to participate in the celebration of his life by standing a Flag\nLine at his funeral service\, ride with him one last time and stand again at his committal service \nPART 1:	Flag Line at funeral service followed by procession to the cemetery\nMission Date:	Jul 28\, 2016 -Thursday\nStaging Time:	10:30\nBriefing Time:	10:45\nIn Position Time Or KSU:	11:00\nService Start Time:	11:30 \nDetails Of Part 1:	After the Mission Briefing\, the Riders will stand the Flag Line to receive the family and guests of Lt. Col. Loveall. When the funeral service begins\, the flags will be returned the support vehicle\, the Riders will receive the safety briefing and prepare to ride in the\nprocession to the funeral home. Riders not participating in the procession may proceed to the cemetery \nName Of Staging Point:\nGreenwood Funeral Home\n3100 White Settlement Road\nFt. Worth\, Texas 76107 \nPART 2:	Flag Line at Interment Ceremony\nMission Date:	Jul 28\, 2016 -Thursday\nStaging Time:	12:45\nBriefing Time:	13:00\nIn Position Time Or KSU:	13:15\nService Start Time:	13:30 \nDetails Of Part 2:	After the Mission Brief\, four designated honor bikes will stage in Lane “C” and escort the procession to the Committal Shelter.  The remainder of the Riders will proceed to Shelter “C\,” establish the Flag Line and prepare to receive the family and friends of Lt.Col. Loveall. When directed the Riders will return the flags to storage\, be debriefed and dismissed. \nName Of Staging Point\nDallas – Fort Worth National Cemetery Visitors Center\n2000 Mt. Creek Parkway\nDallas\, Texas 75211
URL:https://www.patriotguard.org/mission/lt-col-glenn-loveall-usafret-wwii-vietnam-ft-worth/
END:VEVENT
END:VCALENDAR