BEGIN:VCALENDAR
VERSION:2.0
PRODID:-//Patriot Guard Riders - ECPv5.6.0//NONSGML v1.0//EN
CALSCALE:GREGORIAN
METHOD:PUBLISH
X-WR-CALNAME:Patriot Guard Riders
X-ORIGINAL-URL:https://www.patriotguard.org
X-WR-CALDESC:Events for Patriot Guard Riders
BEGIN:VTIMEZONE
TZID:America/New_York
BEGIN:DAYLIGHT
TZOFFSETFROM:-0500
TZOFFSETTO:-0400
TZNAME:EDT
DTSTART:20160313T070000
END:DAYLIGHT
BEGIN:STANDARD
TZOFFSETFROM:-0400
TZOFFSETTO:-0500
TZNAME:EST
DTSTART:20161106T060000
END:STANDARD
END:VTIMEZONE
BEGIN:VEVENT
DTSTART;TZID=America/New_York:20160825T090000
DTEND;TZID=America/New_York:20160825T110000
DTSTAMP:20210512T033357
CREATED:20160825T130000Z
LAST-MODIFIED:20191201T143329Z
UID:409668-1472115600-1472122800@www.patriotguard.org
SUMMARY:Loyde P. Arender\, USMC\, Vietnam - USCG(RET)
DESCRIPTION:Loyde P. Arender\nVietnam\, USMC\nMonroe\, LA\, 08-25-2016 \n\n\nMr Arender was a highly  decorated combat vet that served two tours in Vietnam. He was medically  discharged from the Marines and joined the Coast Guard\, from which he  retired. \nHe worked for Monroe Police Department and retired from the ULM  Police too. \nThe link to his obituary lists some of his many  medals and citations\,  http://kilpatrickfuneralhomes.com/obituary/loyde-p-arender/\n \n\n\nPRIMARY STAGING INFO – 08-25-2016\nLocation:\nKilpatricks Funeral Home\n1200 Lamy Lane\nMonroe LA.\n\n Staging Time:    4:30 P.M \n  Special Instructions:    We will stand a flag line during Mr. Arender’s visitation. \nRCIC:    TBD – To Be Determined\n  Assisting RCs: \nFlags will be provided.\nLarge bike flags will NOT be needed.Weather:     high of 90\, chance of showers and T- storms \nStage Two INFO – 08-26-2016: \n  Location:\nKilpatrick’s Funeral Home\n1200 Lamy Lane\nMonroe LA. \n StagingTime:    9:30A.M. \n  Special Instructions:     We will stand a flag line before the service and escort Mr. Arender and  his family and friends to his final resting place at the NE LA. Veterns  Cemetery at Rayville \nRCIC:    John Smith – mlrc10@yahoo.com\n  Assisting RCs:\n\nFlags will be provided.\nLarge bike flags will NOT be needed.Weather:     90 degrees and a chance of T-storms
URL:https://www.patriotguard.org/mission/loyde-p-arender-usmc-vietnam-uscgret/
CATEGORIES:Archive
END:VEVENT
END:VCALENDAR