BEGIN:VCALENDAR
VERSION:2.0
PRODID:-//Patriot Guard Riders - ECPv5.6.0//NONSGML v1.0//EN
CALSCALE:GREGORIAN
METHOD:PUBLISH
X-WR-CALNAME:Patriot Guard Riders
X-ORIGINAL-URL:https://www.patriotguard.org
X-WR-CALDESC:Events for Patriot Guard Riders
BEGIN:VTIMEZONE
TZID:America/New_York
BEGIN:DAYLIGHT
TZOFFSETFROM:-0500
TZOFFSETTO:-0400
TZNAME:EDT
DTSTART:20160313T070000
END:DAYLIGHT
BEGIN:STANDARD
TZOFFSETFROM:-0400
TZOFFSETTO:-0500
TZNAME:EST
DTSTART:20161106T060000
END:STANDARD
END:VTIMEZONE
BEGIN:VEVENT
DTSTART;TZID=America/New_York:20160805T090000
DTEND;TZID=America/New_York:20160805T110000
DTSTAMP:20210512T034142
CREATED:20160805T130000Z
LAST-MODIFIED:20191201T143914Z
UID:410203-1470387600-1470394800@www.patriotguard.org
SUMMARY:Loyd E. Bentzel\, USA\, Korea / Mechanicsburg
DESCRIPTION:L. Edward Bentzel\nUS Army Korean War Veteran\n5 AUG 2016\nMechanicsburg / Dillsburg\, PA\n\n\nThe family of Lloyd Edward “Ed” Bentzel has requested the Patriot Guard Riders to stand to honor his service to our nation at his funeral service\, escort\, and interment ceremony Friday\, August 5.  Ed served in the Army during the Korean War.  Ed was a member of the Mechanicsburg American Legion Post 109 and the Carlisle AMVETS Post 274.  Ed Bentzel is a patriot who served our country with honor and now it’s our turn to stand and honor him.  \nVISITATION & FUNERAL SERVICE: \nVisitation 0930 – 1130 HRS\nService 1130 HRS\nSilver Spring Presbyterian Church\n444 Silver Spring Road\nMechanicsburg\, PA  17050\nMAP:  https://goo.gl/maps/XB96V7aaKv12 \nStaging:  0900 HRS\nAt the church\n\nESCORT & INTERMENT: \nFollowing service\, escort approximately 10 miles\nFiley’s Cemetery \n15 South Filey Road \nDillsburg\, PA  17019\nMAP:  https://goo.gl/maps/tAxV4UvcEdU2 \nRCIC:  TBA \nFor mission inquiries\, contact:\nDale McGinnis\, Veterans Liaison East\nEmail:  pgrpa.vetrep.east@gmail.com\nPhone: 717-887-4679
URL:https://www.patriotguard.org/mission/loyd-e-bentzel-usa-korea-mechanicsburg/
CATEGORIES:Archive
END:VEVENT
END:VCALENDAR