BEGIN:VCALENDAR
VERSION:2.0
PRODID:-//Patriot Guard Riders - ECPv5.6.0//NONSGML v1.0//EN
CALSCALE:GREGORIAN
METHOD:PUBLISH
X-WR-CALNAME:Patriot Guard Riders
X-ORIGINAL-URL:https://www.patriotguard.org
X-WR-CALDESC:Events for Patriot Guard Riders
BEGIN:VTIMEZONE
TZID:America/New_York
BEGIN:DAYLIGHT
TZOFFSETFROM:-0500
TZOFFSETTO:-0400
TZNAME:EDT
DTSTART:20160313T070000
END:DAYLIGHT
BEGIN:STANDARD
TZOFFSETFROM:-0400
TZOFFSETTO:-0500
TZNAME:EST
DTSTART:20161106T060000
END:STANDARD
END:VTIMEZONE
BEGIN:VEVENT
DTSTART;TZID=America/New_York:20160804T090000
DTEND;TZID=America/New_York:20160804T110000
DTSTAMP:20210511T202215
CREATED:20160804T130000Z
LAST-MODIFIED:20191201T143843Z
UID:410154-1470301200-1470308400@www.patriotguard.org
SUMMARY:Lowell LaVay Jeffries\, 91\, USN
DESCRIPTION:Ladies and Gentlemen of the Patriot Guard Riders\, we have been requested to stand for U.S. Navy Veteran\, Lowell Jeffries\, 91.  Seaman First Class Jeffries served aboard the Farragut\, among other ships.  He served in the Asiatic Pacific campaign.  Much of his time was served as armed guards for the Merchant Marine vessels carrying supplies for the war effort.  Please join us as we help support his family\, pay our respects\, and honor his service to our nation.\n\nMission Date: Thursday\, 4/Aug/16 \nRide Captain: Butch Scott usngmg2@msn.com \nStaging Location: Willamette National Cemetery – 11800 SE Mt Scott Blvd.\, Portland\, OR – up top at the Rostrum by the flagpole\, please enter the cemetery through Gate 2 – across from Lincoln Memorial. \nStaging Time: 1:00 pm       Briefing: 1:20 pm    KSU:  1:30 pm \nFlag line Set: 1:45 pm \nService Begins: 2:00 pm\n*** There will be a RHG from the office to the shelter.
URL:https://www.patriotguard.org/mission/lowell-lavay-jeffries-91-usn/
END:VEVENT
END:VCALENDAR