BEGIN:VCALENDAR
VERSION:2.0
PRODID:-//Patriot Guard Riders - ECPv5.3.2.1//NONSGML v1.0//EN
CALSCALE:GREGORIAN
METHOD:PUBLISH
X-WR-CALNAME:Patriot Guard Riders
X-ORIGINAL-URL:https://www.patriotguard.org
X-WR-CALDESC:Events for Patriot Guard Riders
BEGIN:VTIMEZONE
TZID:America/New_York
BEGIN:DAYLIGHT
TZOFFSETFROM:-0500
TZOFFSETTO:-0400
TZNAME:EDT
DTSTART:20170312T070000
END:DAYLIGHT
BEGIN:STANDARD
TZOFFSETFROM:-0400
TZOFFSETTO:-0500
TZNAME:EST
DTSTART:20171105T060000
END:STANDARD
END:VTIMEZONE
BEGIN:VEVENT
DTSTART;TZID=America/New_York:20170306T130000
DTEND;TZID=America/New_York:20170306T150000
DTSTAMP:20210405T230812
CREATED:20170306T180000Z
LAST-MODIFIED:20191201T032911Z
UID:332034-1488805200-1488812400@www.patriotguard.org
SUMMARY:Lowell B. Debusk\, USN \, USNR - WWII\, Korea
DESCRIPTION:Lowell B. Debusk\, 91\, Veteran \nUSN\, USNR  – WWII\, Korea \nSpringfield\, Missouri – 06 Mar 2017\n\n\n[HR][/HR] \n\n\nABOUT THE MISSION: \nThe family of Lowell Byron Debusk has requested the Patriot Guard  Riders  help honor and pay respect for his service to our country.\nRadar man\, First Class Debusk served aboard the U.S.S. Prince William   (CVE 31) during WWII receiving the Asiatic-Pacific Medal\, American  Theater Medal\, Victory Medal\, and Good Conduct Medal.\nIn addition he served aboard the U.S.S. Bairoko (CVE-115) during the Korean War receiving the Korea Service Medal.\nPlease join us in honoring and showing respect for a true American hero. \nPRIMARY STAGING DETAILS:  06 Mar 2017\n \n\n\n\nPrimary Staging Time:  1:00 P.M.\n\nSunset Church of Christ\n1222 W Sunset Street\nSpringfield\, MO  65807\n\n\n\n\n\nRide Captain:\n\nDoug Sheraski\n(417)763-7333\ndsheraski@yahoo.com \nFlag Support:\nBill Nelson\n(417)849-9398\nnelson127@aol.com\n\n\n\nSpecial Instructions:\n\nStaging:  1:00 p.m.\nSunset Church of Christ\n1222 W Sunset Street\nSpringfield\, MO 65807 \nBriefing:  1:10 p.m.\nEscort to MVC:  1:30 p.m.\nMilitary Honors:  2:00 p.m.\n\n\n\n\n\nFlags & Water:\n\nFlags Will Be Provided\n\nIf you have large bike flags\, please bring them.\n\nWater WILL NOT be provided\, please bring your own.\n\n\n\nSubmitted By:  Douglas Sheraski\nPosition:  Ride Captain \n\n[HR][/HR]\nNote:\nYou do not have to own/ride a motorcycle or be a Veteran to join and membership is Free. The only requirement is RESPECT! To join\, simply go to Patriot Guard website and click on Register. Membership is Free. \nTo subscribe to receive mission notices\, log into the National Site and   click on the Mission Tab at the top. Select Upcoming Missions by State.   Scroll to the state(s) you would like to receive notices for and click   on the green check mark. Detailed instructions are also located in the   FAQs on the site by clicking on the Quick Links Tab and selecting  FAQs.
URL:https://www.patriotguard.org/mission/lowell-b-debusk-usn-usnr-wwii-korea/
END:VEVENT
END:VCALENDAR