BEGIN:VCALENDAR
VERSION:2.0
PRODID:-//Patriot Guard Riders - ECPv5.3.2.1//NONSGML v1.0//EN
CALSCALE:GREGORIAN
METHOD:PUBLISH
X-WR-CALNAME:Patriot Guard Riders
X-ORIGINAL-URL:https://www.patriotguard.org
X-WR-CALDESC:Events for Patriot Guard Riders
BEGIN:VTIMEZONE
TZID:America/New_York
BEGIN:DAYLIGHT
TZOFFSETFROM:-0500
TZOFFSETTO:-0400
TZNAME:EDT
DTSTART:20090308T070000
END:DAYLIGHT
BEGIN:STANDARD
TZOFFSETFROM:-0400
TZOFFSETTO:-0500
TZNAME:EST
DTSTART:20091101T060000
END:STANDARD
END:VTIMEZONE
BEGIN:VEVENT
DTSTART;TZID=America/New_York:20090516T090000
DTEND;TZID=America/New_York:20090516T110000
DTSTAMP:20210405T190217
CREATED:20090516T130000Z
LAST-MODIFIED:20191201T112058Z
UID:378176-1242464400-1242471600@www.patriotguard.org
SUMMARY:Louis Lamoureux\, 45
DESCRIPTION:Louis Lamoureux\, 45\nUS Navy Veteran\n\n\nThe family of Louis Lamoureux have requested our assistance in escorting him to his final resting place.\nLouis was an avid motorcyclist and associated with many groups.  His family greatly appreciates the support.\n\nStaging:\n9am\nWal Mart\n840 Post Rd.\, Warwick\n\nWe’ll be going directly to the Columbarium Building within the Veterans Cemetery in Exeter.\n>>> Bring Your Flags
URL:https://www.patriotguard.org/mission/louis-lamoureux-45/
CATEGORIES:Archive
END:VEVENT
END:VCALENDAR