BEGIN:VCALENDAR
VERSION:2.0
PRODID:-//Patriot Guard Riders - ECPv5.3.2.1//NONSGML v1.0//EN
CALSCALE:GREGORIAN
METHOD:PUBLISH
X-WR-CALNAME:Patriot Guard Riders
X-ORIGINAL-URL:https://www.patriotguard.org
X-WR-CALDESC:Events for Patriot Guard Riders
BEGIN:VTIMEZONE
TZID:America/New_York
BEGIN:DAYLIGHT
TZOFFSETFROM:-0500
TZOFFSETTO:-0400
TZNAME:EDT
DTSTART:20110313T070000
END:DAYLIGHT
BEGIN:STANDARD
TZOFFSETFROM:-0400
TZOFFSETTO:-0500
TZNAME:EST
DTSTART:20111106T060000
END:STANDARD
END:VTIMEZONE
BEGIN:VEVENT
DTSTART;TZID=America/New_York:20110112T090000
DTEND;TZID=America/New_York:20110112T110000
DTSTAMP:20210404T112356
CREATED:20110112T140000Z
LAST-MODIFIED:20191201T104221Z
UID:345615-1294822800-1294830000@www.patriotguard.org
SUMMARY:Louis Gene Cooper\, 86\, USA\, WWII Veteran
DESCRIPTION:This is the final itinerary for the Patriot Guard Riders mission to honor Louis Gene Cooper\, 86\, U.S. Army WW II veteran\, of Buffalo\, Texas.\nHis service was with the US Army Medical Corps\, serving during WWII in England\, France\, Belgium\, and Germany.\nMr. Cooper received the Purple Heart\, ETO Ribbon\, 3 Battle Stars. He landed on the beaches of Normandy on “D” day and was later wounded at Huertgen Forrest\, when a mine blew up as he was carrying a wounded solider to safety. \nHis family has requested that the Patriot Guard Riders attend his services.  The mission is a ‘go’ and all contacts have been made. \nServices:  2 PM\, Wednesday\, January 12th\, at the Buffalo Funeral Home\, 249 Humphreys St.\, Buffalo\, TX 75831 \nStaging: Buffalo Funeral Home at 12 noon\, with the riders meeting at 12:45 and the Flag line in place by 1 PM.  Instructions regarding movement to the cemetery will be given by the Ride Captain. All new members are requested to sign a PGR Release of Liability prior to Flag line.  Please remain flexible as to the requirements of the mission (SEMPER GUMBY). \nMap link to staging:  http://tinyurl.com/242trs3 \nRide Captain:  Jesse Carrington (Big Daddy)  Home # 903-536-7741  Cell 281-948-7855 \nWeather Report:  High temp 40.  It should be a very cold day to ride.  Please dress appropriately. We will need the help\, so please come in the cage if necessary. \nFlag truck with water & snacks\, will be there. \nALL GROUPS\, CLUBS\, INDEPENDENTS\, ETC. ARE WELCOME.  The only prerequisite is RESPECT.  Also remember\, you do not have to ride a motorcycle to join in.  The flag line is open to all who wish to participate. \nStand tall and silent as you honor this fallen veteran and his family.  Please ride/drive safely and defensively.  And thanks again for your participation. \n\nJesse Carrington (Big Daddy)\nSenior Ride Captain\, East Texas Area\nCenterville\, Texas USA
URL:https://www.patriotguard.org/mission/louis-gene-cooper-86-usa-wwii-veteran/
END:VEVENT
END:VCALENDAR