BEGIN:VCALENDAR
VERSION:2.0
PRODID:-//Patriot Guard Riders - ECPv5.3.2.1//NONSGML v1.0//EN
CALSCALE:GREGORIAN
METHOD:PUBLISH
X-WR-CALNAME:Patriot Guard Riders
X-ORIGINAL-URL:https://www.patriotguard.org
X-WR-CALDESC:Events for Patriot Guard Riders
BEGIN:VTIMEZONE
TZID:America/New_York
BEGIN:DAYLIGHT
TZOFFSETFROM:-0500
TZOFFSETTO:-0400
TZNAME:EDT
DTSTART:20190310T070000
END:DAYLIGHT
BEGIN:STANDARD
TZOFFSETFROM:-0400
TZOFFSETTO:-0500
TZNAME:EST
DTSTART:20191103T060000
END:STANDARD
END:VTIMEZONE
BEGIN:VEVENT
DTSTART;VALUE=DATE:20190817
DTEND;VALUE=DATE:20190818
DTSTAMP:20210402T123307
CREATED:20190816T152942Z
LAST-MODIFIED:20190816T153035Z
UID:171066-1566000000-1566086399@www.patriotguard.org
SUMMARY:Louis Edward Perez\, Jr.
DESCRIPTION:Louis Edward Perez\, Jr.\, Veteran\nUSA – WWII\nCovington\, Louisiana – 08-17-19\n\n\n\n\nABOUT THE MISSION: \nLouis Edward Perez\, Jr. served in the United States Army Air Force during WWII. His family has requested the Patriot Guard place flags\, stand in honor of and escort him to his final resting place. We are honored to do so.\nObituary\n\n\nPRIMARY STAGING DETAILS: 08-17-19 \nStaging Time: 9:30 a.m.\n \nMost Holy Trinity Catholic Church\n501 Holy Trinity Drive\nCovington\, Louisiana 70433\n\n\nRide Captain: \nDoug Nobles\, noblesdoug@gmail.com\, 985-662-9818\n\n\nSpecial Instructions: \nStaging: 9:30 a.m.\nVisitation: 10:00 a.m.\nMass: 12 noon.  Escort to St. John Cemetery\, 4841 Canal Street. Escort will be provided by St. Tammany LEO\, Causeway LEO and Jefferson Parish LEO.\n\n\nFlags & Water:\nFlags will be provided\nIf you have large bike flags\, please bring them.\nWater WILL NOT be provided\, please bring your own.\n\n\nSubmitted By: Doug Nobles \nPosition: Louisiana State Captain \n\nNote: You do not have to own/ride a motorcycle or be a veteran to join\, and membership is Free. The only requirement is RESPECT! To subscribe to receive mission notices\, log into the National Site and click on the Members tab at the top. Select the Subscribe to PGR Missions option.\n Print This Page
URL:https://www.patriotguard.org/mission/louis-edward-perez-jr/
CATEGORIES:Honor Mission
END:VEVENT
END:VCALENDAR