BEGIN:VCALENDAR
VERSION:2.0
PRODID:-//Patriot Guard Riders - ECPv5.3.2.1//NONSGML v1.0//EN
CALSCALE:GREGORIAN
METHOD:PUBLISH
X-WR-CALNAME:Patriot Guard Riders
X-ORIGINAL-URL:https://www.patriotguard.org
X-WR-CALDESC:Events for Patriot Guard Riders
BEGIN:VTIMEZONE
TZID:America/New_York
BEGIN:DAYLIGHT
TZOFFSETFROM:-0500
TZOFFSETTO:-0400
TZNAME:EDT
DTSTART:20190310T070000
END:DAYLIGHT
BEGIN:STANDARD
TZOFFSETFROM:-0400
TZOFFSETTO:-0500
TZNAME:EST
DTSTART:20191103T060000
END:STANDARD
END:VTIMEZONE
BEGIN:VEVENT
DTSTART;VALUE=DATE:20190720
DTEND;VALUE=DATE:20190721
DTSTAMP:20210404T050156
CREATED:20190718T192100Z
LAST-MODIFIED:20190718T192256Z
UID:168111-1563580800-1563667199@www.patriotguard.org
SUMMARY:Louin B Brooks
DESCRIPTION:Honor Mission\nLouin B Brooks\, Veteran\nUSA\nHenderson\, Texas – 07-20-19\n\n\n\nABOUT THE MISSION: \nMr. Brooks served proudly in the United States Army from 1954 to 1956 and was discharged honorably.\nObit: https://tinyurl.com/y5fluzp7\n\n\nPRIMARY STAGING DETAILS: 07-20-19 \nStaging: 9:00 AM\n \nCrawford-A Crim Funeral Home\n1414 South Main St.\nHenderson\, Texas 75654\nhttps://tinyurl.com/y5kvfdtx\n\n\nRide Captain: \nMike ‘Big Mike’ Eubank\n903-738-1861\nfak_mike@yahoo.com\n\n\n\n\nFlags & Water:\nFlags will be provided\nLarge Bike Flags will NOT be needed.\nWater will be provided.\n\nSubmitted By: Ed Wilkinson \nPosition: Texas Ride Captain \n\nNote: You do not have to own/ride a motorcycle or be a veteran to join\, and membership is Free. The only requirement is RESPECT! To subscribe to receive mission notices\, log into the National Site and click on the Members tab at the top. Select the Subscribe to PGR Missions option.\n Print This Page
URL:https://www.patriotguard.org/mission/louin-b-brooks/
CATEGORIES:Honor Mission
END:VEVENT
END:VCALENDAR