BEGIN:VCALENDAR
VERSION:2.0
PRODID:-//Patriot Guard Riders - ECPv5.3.2.1//NONSGML v1.0//EN
CALSCALE:GREGORIAN
METHOD:PUBLISH
X-WR-CALNAME:Patriot Guard Riders
X-ORIGINAL-URL:https://www.patriotguard.org
X-WR-CALDESC:Events for Patriot Guard Riders
BEGIN:VTIMEZONE
TZID:America/New_York
BEGIN:DAYLIGHT
TZOFFSETFROM:-0500
TZOFFSETTO:-0400
TZNAME:EDT
DTSTART:20190310T070000
END:DAYLIGHT
BEGIN:STANDARD
TZOFFSETFROM:-0400
TZOFFSETTO:-0500
TZNAME:EST
DTSTART:20191103T060000
END:STANDARD
END:VTIMEZONE
BEGIN:VEVENT
DTSTART;VALUE=DATE:20190615
DTEND;VALUE=DATE:20190616
DTSTAMP:20210405T140047
CREATED:20190612T140047Z
LAST-MODIFIED:20190612T140047Z
UID:164559-1560556800-1560643199@www.patriotguard.org
SUMMARY:Lou "Soretoe" Costello Memorial Ice Cream Social
DESCRIPTION:HOTH Mission\nLou “Soretoe” Costello Memorial Ice Cream Social\, Veteran\nUSA USMC USN USAF USCG – WWII\, Korea\, Vietnam\, GW/ODS\, WoT\nCarrollton\, Georgia – 06-15-19\n\n\n\nABOUT THE MISSION: \nThis is a real “feel good” mission. Bring the wife\, kids and grandkids. Meet our heroes from WWII\, Korea\, Vietnam and the War on Terror.\n\n\nPRIMARY STAGING DETAILS: 06-15-19 \nStaging Time: 12:45 PM\n \nTrinka Davis Veterans Village\n180 Martin Dr\,\nCarrollton\, Georgia 30117\nMap\n\n\nRide Captain: \nJerry “Crawdaddy” Green\n678-378-1261\n\n\nSpecial Instructions: \nSocial starts at 1:00 PM.\nDirections: The Trinka Davis Veterans Village is easy to find although many GPS units don’t know where it is. Martin Drive runs off of Georgia Highway 61. Coming from the north on 61 just past Lake Carrollton there is a K-Mart on your right the next street is Martin Drive. Take a right and come in the SECOND entrance to the Veterans Village. Coming from the south on 61 look for the Martins Restaurant and take a left on Martin Drive. You may also go to the Trinka Davis Veterans Village web page below and type in your address for Google Maps directions door to door. I have also provided below the GPS coordinates. 33°35’22″N 85°3’28″W\n\n\nFlags & Water:\nFlags will not be provided\nLarge Bike Flags will NOT be needed.\nWater will be provided.\n\n\n\nSubmitted By: Joe Maglie \nPosition: Moderator \n\nNote: You do not have to own/ride a motorcycle or be a veteran to join\, and membership is Free. The only requirement is RESPECT! To subscribe to receive mission notices\, log into the National Site and click on the Members tab at the top. Select the Subscribe to PGR Missions option.\n Print This Page
URL:https://www.patriotguard.org/mission/lou-soretoe-costello-memorial-ice-cream-social-6/
CATEGORIES:HOTH Mission
END:VEVENT
END:VCALENDAR