BEGIN:VCALENDAR
VERSION:2.0
PRODID:-//Patriot Guard Riders - ECPv5.3.2.1//NONSGML v1.0//EN
CALSCALE:GREGORIAN
METHOD:PUBLISH
X-WR-CALNAME:Patriot Guard Riders
X-ORIGINAL-URL:https://www.patriotguard.org
X-WR-CALDESC:Events for Patriot Guard Riders
BEGIN:VTIMEZONE
TZID:America/New_York
BEGIN:DAYLIGHT
TZOFFSETFROM:-0500
TZOFFSETTO:-0400
TZNAME:EDT
DTSTART:20190310T070000
END:DAYLIGHT
BEGIN:STANDARD
TZOFFSETFROM:-0400
TZOFFSETTO:-0500
TZNAME:EST
DTSTART:20191103T060000
END:STANDARD
END:VTIMEZONE
BEGIN:VEVENT
DTSTART;VALUE=DATE:20190813
DTEND;VALUE=DATE:20190814
DTSTAMP:20210402T191721
CREATED:20190811T011905Z
LAST-MODIFIED:20190811T012004Z
UID:170335-1565654400-1565740799@www.patriotguard.org
SUMMARY:Lorenzo D. Perez
DESCRIPTION:Honor Mission\nLorenzo D. Perez\, Veteran\nUSN – WWII\nEl Paso\, Texas – 08-13-19\n\n\n \n\nABOUT THE MISSION: \nThe family of S1c Lorenzo D. Perez has requested the Patriot Guard Riders to render honors for his interment.\n\n\nPRIMARY STAGING DETAILS: 08-13-19 \nStaging Time: 2:00 pm\n \n5200 Fred Wilson Ave.\nEl Paso\, Texas 79906\n\n\nRide Captain: \nVaughn Nelson\nfwtpgrmissions@gmail.com\n(915) 667-9992\n\n\nSpecial Instructions: \nBriefing: 2:15 pm\nFlag Line: 2:30 pm\n\nFlags & Water:\nFlags will be provided\nLarge Bike Flags will NOT be needed.\nWater will be provided.\n\n\n\n\nSubmitted By: Vaughn Nelson \nPosition: Texas Ride Captain \n\nNote: You do not have to own/ride a motorcycle or be a veteran to join\, and membership is Free. The only requirement is RESPECT! To subscribe to receive mission notices\, log into the National Site and click on the Members tab at the top. Select the Subscribe to PGR Missions option.\n Print This Page
URL:https://www.patriotguard.org/mission/lorenzo-d-perez/
CATEGORIES:Honor Mission
END:VEVENT
END:VCALENDAR