BEGIN:VCALENDAR
VERSION:2.0
PRODID:-//Patriot Guard Riders - ECPv5.3.2.1//NONSGML v1.0//EN
CALSCALE:GREGORIAN
METHOD:PUBLISH
X-WR-CALNAME:Patriot Guard Riders
X-ORIGINAL-URL:https://www.patriotguard.org
X-WR-CALDESC:Events for Patriot Guard Riders
BEGIN:VTIMEZONE
TZID:America/New_York
BEGIN:DAYLIGHT
TZOFFSETFROM:-0500
TZOFFSETTO:-0400
TZNAME:EDT
DTSTART:20180311T070000
END:DAYLIGHT
BEGIN:STANDARD
TZOFFSETFROM:-0400
TZOFFSETTO:-0500
TZNAME:EST
DTSTART:20181104T060000
END:STANDARD
END:VTIMEZONE
BEGIN:VEVENT
DTSTART;TZID=America/New_York:20180423T110000
DTEND;TZID=America/New_York:20180423T130000
DTSTAMP:20210401T192909
CREATED:20180423T150000Z
LAST-MODIFIED:20200727T032816Z
UID:341564-1524481200-1524488400@www.patriotguard.org
SUMMARY:Loren Scott Geis\, Veteran\, USAF
DESCRIPTION:Honor Mission\nLoren Scott Geis\, Veteran\nUSAF\nPortland\, Oregon – 23 Apr 2018\n\n\nABOUT THE MISSION: \nLadies and gentlemen of the Patriot Guard Riders\, we have been invited to stand for Loren Scott Geis\, age 70. Loren served in the US Air Force from 24 October 1966 to 23 October 1972 and was honorably discharged at the rank of Sergeant. Please join us as we pay our respects and honor his service to our nation.\nPRIMARY STAGING DETAILS: 23 Apr 2018\nPrimary Staging Time: 11:00 A.M. \nWillamette National Cemetery\n11800 SE Mt Scott Blvd\nPortland\, Oregon – 97086\nRide Captain: \nMarty Jouett\nmartyjouett@yahoo.com\nSpecial Instructions: \nMeet up top at the Rostrum by the flagpole. Please enter the cemetery through Gate 2 – across from Lincoln Memorial.\nBriefing: 11:20 am\nKSU: 11:30 am\nFlag line Set: 11:45 am\nService Begins: 12:00 pmThere will be an RHG if needed \n\nFlags & Water: \nFlags Will NOT Be Provided\, Please Bring Your Own.\nIf you have large bike flags\, please bring them.\nWater WILL NOT be provided\, please bring your own.\n  \n\nSubmitted By: John Hanan II\nPosition: State Captain\n \n\nNote:\nYou do not have to own/ride a motorcycle or be a Veteran to join and membership is Free. The only requirement is RESPECT! To join\, simply go to www.PatriotGuard.org and click on Register. Membership is Free. \nTo subscribe to receive mission notices\, log into the National Site and click on the Mission Tab at the top. Select the Subscribe to Missions option.
URL:https://www.patriotguard.org/mission/loren-scott-geis-veteran-usaf/
CATEGORIES:Honor Mission
END:VEVENT
END:VCALENDAR