BEGIN:VCALENDAR
VERSION:2.0
PRODID:-//Patriot Guard Riders - ECPv5.6.0//NONSGML v1.0//EN
CALSCALE:GREGORIAN
METHOD:PUBLISH
X-WR-CALNAME:Patriot Guard Riders
X-ORIGINAL-URL:https://www.patriotguard.org
X-WR-CALDESC:Events for Patriot Guard Riders
BEGIN:VTIMEZONE
TZID:America/New_York
BEGIN:DAYLIGHT
TZOFFSETFROM:-0500
TZOFFSETTO:-0400
TZNAME:EDT
DTSTART:20160313T070000
END:DAYLIGHT
BEGIN:STANDARD
TZOFFSETFROM:-0400
TZOFFSETTO:-0500
TZNAME:EST
DTSTART:20161106T060000
END:STANDARD
END:VTIMEZONE
BEGIN:VEVENT
DTSTART;TZID=America/New_York:20160709T090000
DTEND;TZID=America/New_York:20160709T110000
DTSTAMP:20210512T123525
CREATED:20160709T130000Z
LAST-MODIFIED:20191201T144500Z
UID:410733-1468054800-1468062000@www.patriotguard.org
SUMMARY:Lonnie Lancaster\, USN
DESCRIPTION:PO2 Lonnie “Pete” Lancaster\, Del City\, OK\, 9 July 2016 \nThe famiy of U.S. Navy World War II Veteran PO2 Lonnie “Pete” Lancaster has requested the PGR to form a flag line and provide an escort on 9 July 2016 at Bill Eisenhower Funeral Home\, Del City\, OK \nDate: Saturday 9 July 2016 \nStaging: 0900 \nBill Eisenhower Funeral Home\n5005 SE 29th St\nDel City\, OK 73115 \nMandatory Briefing: 0915 \nKSU: Immediately following the 1000 service (approx. 1100) \nThe escort will be to Sunnylane Cemetery Del City\, OK (approx.2 miles) \nWeather: Cloudy\, Possible rain\, 90+ degrees. Hydrate\, Hydrate\, Hydrate \nRCIC:\nMark Blevins\n(405) 496-0382\nscrltngray@gmail.com
URL:https://www.patriotguard.org/mission/lonnie-lancaster-usn/
CATEGORIES:Archive
END:VEVENT
END:VCALENDAR