BEGIN:VCALENDAR
VERSION:2.0
PRODID:-//Patriot Guard Riders - ECPv5.3.2.1//NONSGML v1.0//EN
CALSCALE:GREGORIAN
METHOD:PUBLISH
X-WR-CALNAME:Patriot Guard Riders
X-ORIGINAL-URL:https://www.patriotguard.org
X-WR-CALDESC:Events for Patriot Guard Riders
BEGIN:VTIMEZONE
TZID:America/New_York
BEGIN:DAYLIGHT
TZOFFSETFROM:-0500
TZOFFSETTO:-0400
TZNAME:EDT
DTSTART:20190310T070000
END:DAYLIGHT
BEGIN:STANDARD
TZOFFSETFROM:-0400
TZOFFSETTO:-0500
TZNAME:EST
DTSTART:20191103T060000
END:STANDARD
END:VTIMEZONE
BEGIN:VEVENT
DTSTART;VALUE=DATE:20190712
DTEND;VALUE=DATE:20190713
DTSTAMP:20210404T023942
CREATED:20190710T164630Z
LAST-MODIFIED:20190710T164630Z
UID:167233-1562889600-1562975999@www.patriotguard.org
SUMMARY:Lonnie E. Perdew III
DESCRIPTION:Honor Mission\nLonnie E. Perdew III\, Veteran\nUSAF –\nDallas\, Texas – 07-12-19\n\n\n\nABOUT THE MISSION: \nLonnie E. Perdew II honorably served in the United States Air Force for 1 year\, 3 months and 11 days as a C-130 crew chief.\n\n\nPRIMARY STAGING DETAILS: 07-12-19 \nStaging Time: 09:30 AM\n \nDFW National Cemetery\n2000 Mountain Creek Pkwy\nDallas\, Texas 75211\n\n\nRide Captain: \nDan Mathys\npgrdan1@gmail.com\n(817) 300-5542\n\n\nSpecial Instructions: \nStaging Time: 09:30\nBriefing Time: 09:45\nIn Position/KSU Time: 10:00\nStarting Time: 10:15\nAfter the mission briefing\, honor bikes will move to the staging lanes to await Mr. Perdew\, his family and friends. All other Riders will proceed to the shelter\, set the flags\, and prepare to honor Mr. Perdew’s Service to our Country. At the conclusion of the Service\, flags will be returned to storage\, and the Riders debriefed and dismissed.\n\n\nFlags & Water:\nFlags will be provided\nIf you have large bike flags\, please bring them.\nWater will be provided.\n\n\n\nSubmitted By: Dan Mathys \nPosition: Texas Ride Captain \n\nNote: You do not have to own/ride a motorcycle or be a veteran to join\, and membership is Free. The only requirement is RESPECT! To subscribe to receive mission notices\, log into the National Site and click on the Members tab at the top. Select the Subscribe to PGR Missions option.\n Print This Page
URL:https://www.patriotguard.org/mission/lonnie-e-perdew-iii/
CATEGORIES:Honor Mission
END:VEVENT
END:VCALENDAR