BEGIN:VCALENDAR
VERSION:2.0
PRODID:-//Patriot Guard Riders - ECPv5.6.0//NONSGML v1.0//EN
CALSCALE:GREGORIAN
METHOD:PUBLISH
X-WR-CALNAME:Patriot Guard Riders
X-ORIGINAL-URL:https://www.patriotguard.org
X-WR-CALDESC:Events for Patriot Guard Riders
BEGIN:VTIMEZONE
TZID:America/New_York
BEGIN:DAYLIGHT
TZOFFSETFROM:-0500
TZOFFSETTO:-0400
TZNAME:EDT
DTSTART:20160313T070000
END:DAYLIGHT
BEGIN:STANDARD
TZOFFSETFROM:-0400
TZOFFSETTO:-0500
TZNAME:EST
DTSTART:20161106T060000
END:STANDARD
END:VTIMEZONE
BEGIN:VEVENT
DTSTART;TZID=America/New_York:20160730T090000
DTEND;TZID=America/New_York:20160730T110000
DTSTAMP:20210512T205229
CREATED:20160730T130000Z
LAST-MODIFIED:20191201T144230Z
UID:410504-1469869200-1469876400@www.patriotguard.org
SUMMARY:Lon Albert Swiers\, 45\, USAF\, Gulf Veteran - GWOT / Oberlin
DESCRIPTION:MEMORIAL SERVICE\n\n\n   \n\n\nSrA Lon Albert Swiers\, 45\n\n\n   \n\n\nOberlin/Vermillion\, Ohio\n\n\n   \n\n\nUnited States Air Force Veteran of\n\n\n   \n\n\n Gulf War/ Desert Shield/ Desert Storm\n\n\n   \n\n\n [ATTACH=CONFIG]4945[/ATTACH]\n\n\n   \n\n\n                                                  \n\n\n   \n\n\n \n\n\n  Staging Location:\n  Smokin Joes / Country Breeze Carry Out\n  4303 State Road (Corner of State Route 60 & Mason Road)\n  Vermillion\, Ohio 44089 \n  Staging: 30 July 2016 @ 1200 hrs. – (12:00 PM) KSU @ 1230 hrs. – (12:30 PM)\n  Please arrive at the staging area on time.\n   \n  Memorial Service:\n  Location will be given at time of staging\n  30 July 2016@1300hrs-(1 PMM) \n   \n  Our mission will conclude after the Memorial Service.  There will be no cemetery escort.\n   \n  District# 2 Captain Gary Knight is assigned this mission of Honor and Respect. Please follow his instructions. Dress per the weather conditions. Use your own judgment on how you get safely to and from the mission. If you need to contact Gary email him at: gillkiki@neo.rr.com\n   \n\n\n“Rest in Peace SrA Swiers”\n[ATTACH=CONFIG]4946[/ATTACH]\n\n\n   \n\n\n   \n\n\n  Bob Woods\n  OHSC@patriotguard.org
URL:https://www.patriotguard.org/mission/lon-albert-swiers-45-usaf-gulf-veteran-gwot-oberlin/
CATEGORIES:Archive
END:VEVENT
END:VCALENDAR