BEGIN:VCALENDAR
VERSION:2.0
PRODID:-//Patriot Guard Riders - ECPv5.3.2.1//NONSGML v1.0//EN
CALSCALE:GREGORIAN
METHOD:PUBLISH
X-WR-CALNAME:Patriot Guard Riders
X-ORIGINAL-URL:https://www.patriotguard.org
X-WR-CALDESC:Events for Patriot Guard Riders
BEGIN:VTIMEZONE
TZID:America/New_York
BEGIN:DAYLIGHT
TZOFFSETFROM:-0500
TZOFFSETTO:-0400
TZNAME:EDT
DTSTART:20170312T070000
END:DAYLIGHT
BEGIN:STANDARD
TZOFFSETFROM:-0400
TZOFFSETTO:-0500
TZNAME:EST
DTSTART:20171105T060000
END:STANDARD
END:VTIMEZONE
BEGIN:VEVENT
DTSTART;TZID=America/New_York:20170128T130000
DTEND;TZID=America/New_York:20170128T150000
DTSTAMP:20210402T004103
CREATED:20170128T180000Z
LAST-MODIFIED:20191201T034019Z
UID:339548-1485608400-1485615600@www.patriotguard.org
SUMMARY:Local Troops
DESCRIPTION:Welcome Home\nMULTI-CITY\, Ohio\n28 Jan 2017\n=============================================\n\n\n\nPrimary Staging Details: 28 Jan 2017\n \n\nPrimary Staging Time: 1 P.M.\nWelcome Home Escort Staging Location:\nJohn Glenn/Columbus International Airport- (CMH)\nLane Aviation\n4387 International Gateway\nColumbus\, Ohio – 43219\nMap to Lane Aviation: https://binged.it/2k98DdN\n\n\nRide Captain:\n \n\nRay Schwabe\nRayschwabe@sbcglobal.net\n\n\nSpecial Instructions:\n \n\nThis is the Escort Staging Location. See second staging location below\n\n\nFlags:\n \n\nFlags Will NOT Be Provided\, Please Bring Your Own.\n\n\nIf you have large bike flags\, please bring them.\n\n\nWater WILL NOT be provided\, please bring your own.\n\n \n=========================== \nStaging #2 Details: 28 Jan\, 2017\n \n\nStaging #2 Time: 3 P.M.\nWelcome Home Ceremony Destination Location:\nReynoldsburg High School\n6699 E Livingston Avenue\nReynoldsburg\, Ohio – 43068\nMap: Reynoldsburg School: https://binged.it/2kq6RlW\n\n\nRide Captain:\n \n\nRay Schwabe\nRayschwabe@sbcglobal.net\n\n\nSpecial Instructions:\n \n\nPlease have a flag line in place for the arrival of our troops\n\n\nFlags:\n \n\nFlags Will NOT Be Provided\, Please Bring Your Own.\n\n\nLarge Bike Flags will NOT be needed\n\n\nWater WILL NOT be provided\, please bring your own.\n\nSubmitted By: Robert Woods\nPosition: State Captain \n===========================\nNote:\nYou do not have to own/ride a motorcycle or be a Veteran to join and membership is Free. The only requirement is RESPECT! To join\, simply go to www.PatriotGuard.org and click on Register. Membership is Free. \nTo subscribe to receive mission notices\, log into the National Site and click on the Mission Tab at the top. Select Upcoming Missions by State. Scroll to the state(s) you would like to receive notices for and click on the green check mark. Detailed instructions are also located in the FAQs on the site by clicking on the Quick Links Tab and selecting FAQs.
URL:https://www.patriotguard.org/mission/local-troops-7/
END:VEVENT
END:VCALENDAR