BEGIN:VCALENDAR
VERSION:2.0
PRODID:-//Patriot Guard Riders - ECPv5.3.2.1//NONSGML v1.0//EN
CALSCALE:GREGORIAN
METHOD:PUBLISH
X-WR-CALNAME:Patriot Guard Riders
X-ORIGINAL-URL:https://www.patriotguard.org
X-WR-CALDESC:Events for Patriot Guard Riders
BEGIN:VTIMEZONE
TZID:America/New_York
BEGIN:DAYLIGHT
TZOFFSETFROM:-0500
TZOFFSETTO:-0400
TZNAME:EDT
DTSTART:20190310T070000
END:DAYLIGHT
BEGIN:STANDARD
TZOFFSETFROM:-0400
TZOFFSETTO:-0500
TZNAME:EST
DTSTART:20191103T060000
END:STANDARD
END:VTIMEZONE
BEGIN:VEVENT
DTSTART;TZID=America/New_York:20190808T000000
DTEND;TZID=America/New_York:20190808T000000
DTSTAMP:20210402T092627
CREATED:20190808T233348Z
LAST-MODIFIED:20190808T233348Z
UID:170248-1565222400-1565222400@www.patriotguard.org
SUMMARY:Lloyd N. Mitchell
DESCRIPTION:Honor Mission\nLloyd N. Mitchell\, Retired\nUS Navy –  Vietnam\nPensacola\, Florida – 08-14-19\n\n\n\nABOUT THE MISSION:\n\nThe Patriot Guard has been invited by the family of SHCM Lloyd N. Mitchell\, United States Navy\, to stand in his honor and escort him to Barrancas National Cemetery. Master Chief Mitchell honorably served in the United States Navy from Apr 1953 until May 1983. Master Chief Mitchell received the following awards: Meritorious Unit Citation\, Battle ‘E’\, Navy Achievement Medal\, Good Conduct Award (8)\, National Defense Service Medal\, Vietnam Service\, and Vietnam Campaign Medal. We will meet the family at Little Flower Catholic Church\, 6495 Lillian Hwy\, Pensacola at 12:00 PM. Honors will follow at Barrancas National Cemetery at 1:00 PM\, Site “A”.\n\n\nPRIMARY STAGING DETAILS: 08-14-19  \nStaging Time: 10:45 AM \nWhataburger\n1313 N. New Warrington Rd\nPensacola\, Florida\n\n\nRide Captain: \nDarryl “Stew” Stewart\n(850) 380-2095\nstew99@bellsouth.net\n\n\nSpecial Instructions: \nNaval Air Station requires long sleeve shirts and trousers\, long-fingered gloves\, DOT approved helmets\, leather footwear covering the ankles and proper eye protection. This attire will always be worn while riding aboard the base.\n\n11:30 AM – Safety brief for all riders\n11:45 AM – KSU to Little Flower Catholic Church\n12:00 PM– Arrive Little Flower Catholic Church\n12:30 PM– Roll time to Barrancas National Cemetery\n1:00 PM – Honors at Barrancas National Cemetery\n\n\nFlags & Water:\nFlags will be provided\nIf you have large bike flags\, please bring them.\nWater will be provided.\n\n\n\nSubmitted By: Ray Doyle \nPosition: Florida Assistant State Captain \n\nNote: You do not have to own/ride a motorcycle or be a veteran to join\, and membership is Free. The only requirement is RESPECT! To subscribe to receive mission notices\, log into the National Site and click on the Members tab at the top. Select the Subscribe to PGR Missions option.
URL:https://www.patriotguard.org/mission/lloyd-n-mitchell/
CATEGORIES:Honor Mission
END:VEVENT
END:VCALENDAR