BEGIN:VCALENDAR
VERSION:2.0
PRODID:-//Patriot Guard Riders - ECPv5.3.2.1//NONSGML v1.0//EN
CALSCALE:GREGORIAN
METHOD:PUBLISH
X-WR-CALNAME:Patriot Guard Riders
X-ORIGINAL-URL:https://www.patriotguard.org
X-WR-CALDESC:Events for Patriot Guard Riders
BEGIN:VTIMEZONE
TZID:America/New_York
BEGIN:DAYLIGHT
TZOFFSETFROM:-0500
TZOFFSETTO:-0400
TZNAME:EDT
DTSTART:20160313T070000
END:DAYLIGHT
BEGIN:STANDARD
TZOFFSETFROM:-0400
TZOFFSETTO:-0500
TZNAME:EST
DTSTART:20161106T060000
END:STANDARD
END:VTIMEZONE
BEGIN:VEVENT
DTSTART;TZID=America/New_York:20160725T090000
DTEND;TZID=America/New_York:20160725T110000
DTSTAMP:20210401T224734
CREATED:20160725T130000Z
LAST-MODIFIED:20191201T144230Z
UID:410503-1469437200-1469444400@www.patriotguard.org
SUMMARY:Linroy Davis Sr\, 74\, USA Veteran / Waldorf
DESCRIPTION:Linroy Davis Sr\, 74\nUS Army Veteran\nWaldorf\, Cheltenham\, MD\nMonday\, 25 July 2016\n\n\n\nThe Patriot Guard Riders are honored to be requested by the family of Linroy Davis Sr.\, to stand a flag line for him and escort him to his final resting place.  Mr. Davis died 13 July 2016. \nMr. Davis\, age 74\, was a veteran of the US Army (1960-1963) and was a Private First Class and a Medical Specialist. \nHe is survived by four children\, sixteen grandchildren and sixteen great grandchildren.  His spouse predeceased him. \nServices will be held at\nBriscoe-Tonic funeral Home\n2294 Old Washington Road\nWaldorf\, MD \nInterment will be in\nCheltenham Veterans Cemetery\n11301 Crain Highway (Rt 301)\nCheltenham\, MD \nWe will stand a flag line at each location. \nService:  25 July 2016\n1030 Hrs    Stage at the Funeral Home\n1045 Hrs    Brief\n1100 Hrs    Render Honors via Flagline @ FH until service begins at 1200 hrs\n1315 Hrs    Escort PFC Linroy Davis Sr. to his final resting place at Cheltenham Veterans Cemetery. \nPlease bring your 3×5 flags for the flag lines at the funeral home and at the cemetery.  Bring something cold to drink to stay hydrated. \nWeather forecasts say more heat\, temperature in the low 90’s. \nRide Captains:\nBruce Robocop Gentile\n301-542-6707
URL:https://www.patriotguard.org/mission/linroy-davis-sr-74-usa-veteran-waldorf/
CATEGORIES:Archive
END:VEVENT
END:VCALENDAR