BEGIN:VCALENDAR
VERSION:2.0
PRODID:-//Patriot Guard Riders - ECPv5.3.2.1//NONSGML v1.0//EN
CALSCALE:GREGORIAN
METHOD:PUBLISH
X-WR-CALNAME:Patriot Guard Riders
X-ORIGINAL-URL:https://www.patriotguard.org
X-WR-CALDESC:Events for Patriot Guard Riders
BEGIN:VTIMEZONE
TZID:America/New_York
BEGIN:DAYLIGHT
TZOFFSETFROM:-0500
TZOFFSETTO:-0400
TZNAME:EDT
DTSTART:20190310T070000
END:DAYLIGHT
BEGIN:STANDARD
TZOFFSETFROM:-0400
TZOFFSETTO:-0500
TZNAME:EST
DTSTART:20191103T060000
END:STANDARD
END:VTIMEZONE
BEGIN:VEVENT
DTSTART;VALUE=DATE:20190725
DTEND;VALUE=DATE:20190726
DTSTAMP:20210404T070329
CREATED:20190723T093503Z
LAST-MODIFIED:20190723T093503Z
UID:168546-1564012800-1564099199@www.patriotguard.org
SUMMARY:Linden A. Foster
DESCRIPTION:Honor Mission\nLinden A. Foster\, Veteran\nUSAF\nHolly\, Michigan – 07-25-19\n\n\n\nABOUT THE MISSION: \nThe family of Linden A. Foster\, 78\, has invited the Patriot Guard Riders to stand in honor of his service to our country.\nMr. Foster was born 6 July 1941 and passed 19 July 2019.\nMr. Foster enlisted in the U.S. Air Force in April of 1961 until April 1965 and was trained on radar equipment. Mr. Foster was stationed at Keesler Air Force Base and the 698th Radar Squadron\, Thomasville Air Station. Mr. Foster was on active duty during the Cuban Missile Crisis of October 1962\, where Airman Foster and others were known as “Scope Dopes” watching the skies between the mainland USA and Cuba.\nHe enjoyed woodworking and building\, hunting\, golfing\, bowling and playing cards\, especially Euchre\, but his most treasured times were those spent with his family. Mr. and Mrs. Foster had four children\, eleven grandchildren and eight great-grandchildren\nObituary\n\n\nPRIMARY STAGING DETAILS: 07-25-19 \nStaging Time: 8:15 AM\n \nMcDonald’s\n15187 N. Holly Rd.\nHolly\, Michigan 48442\nMap\n\n\nRide Captain: \nHAM\n(248) 842-6539\n\n\nSpecial Instructions: \nBriefing: 8:45 AM\nKSU: 9:05 AM\nService: 9:30 AM\n\n\nFlags & Water:\nFlags will not be provided\nLarge Bike Flags will NOT be needed.\nWater WILL NOT be provided\, please bring your own.\n\n\n\nSubmitted By: Terrence Laurencelle \nPosition: Michigan Ride Captain \n\nNote: You do not have to own/ride a motorcycle or be a veteran to join\, and membership is Free. The only requirement is RESPECT! To subscribe to receive mission notices\, log into the National Site and click on the Members tab at the top. Select the Subscribe to PGR Missions option.\n Print This Page
URL:https://www.patriotguard.org/mission/linden-a-foster/
CATEGORIES:Honor Mission
END:VEVENT
END:VCALENDAR