BEGIN:VCALENDAR
VERSION:2.0
PRODID:-//Patriot Guard Riders - ECPv5.3.2.1//NONSGML v1.0//EN
CALSCALE:GREGORIAN
METHOD:PUBLISH
X-WR-CALNAME:Patriot Guard Riders
X-ORIGINAL-URL:https://www.patriotguard.org
X-WR-CALDESC:Events for Patriot Guard Riders
BEGIN:VTIMEZONE
TZID:America/New_York
BEGIN:DAYLIGHT
TZOFFSETFROM:-0500
TZOFFSETTO:-0400
TZNAME:EDT
DTSTART:20190310T070000
END:DAYLIGHT
BEGIN:STANDARD
TZOFFSETFROM:-0400
TZOFFSETTO:-0500
TZNAME:EST
DTSTART:20191103T060000
END:STANDARD
END:VTIMEZONE
BEGIN:VEVENT
DTSTART;VALUE=DATE:20190713
DTEND;VALUE=DATE:20190714
DTSTAMP:20210404T070809
CREATED:20190712T100159Z
LAST-MODIFIED:20190712T100159Z
UID:167446-1562976000-1563062399@www.patriotguard.org
SUMMARY:Lindel W. Maddox
DESCRIPTION:Honor Mission\nLindel W. Maddox\, Veteran\nUSA\, WWII\nBeaver Dam\, Kentucky – 07-13-19\n\n\n  \n\nABOUT THE MISSION: \nMr. Lindel W. Maddox is a U.S.Army Veteran of WWll\, 1943-1945. Mr. Maddox was part of the Italian Campaign\, where he received the European African Middle Eastern Theater Medal. Mr. Maddox also received the Purple Heart for wounds received 30 June 44 European Theater.\n\n\nPRIMARY STAGING DETAILS: 07-13-19 \nStaging Time: 10:30 am  \nBevil Brothers Funeral Home\nBeaver Dam\, Kentucky 42320\n\n\nRide Captain: \nWilliam Dixon\nCell # 270 339-6907\nScott & Missie Butler 270 860-3913/ 270 577-5717\n\n\nSpecial Instructions: \nStake flags 10:00 am\nBriefing 10:45\n\nFlags & Water:\nFlags will be provided\nLarge Bike Flags will NOT be needed.\nWater WILL NOT be provided\, please bring your own.\n\n\n\n\nSubmitted By: William Dixon\, Jr. \nPosition: \n\nNote: You do not have to own/ride a motorcycle or be a veteran to join\, and membership is Free. The only requirement is RESPECT! To subscribe to receive mission notices\, log into the National Site and click on the Members tab at the top. Select the Subscribe to PGR Missions option.\n Print This Page
URL:https://www.patriotguard.org/mission/lindel-w-maddox/
CATEGORIES:Honor Mission
END:VEVENT
END:VCALENDAR