BEGIN:VCALENDAR
VERSION:2.0
PRODID:-//Patriot Guard Riders - ECPv5.3.2.1//NONSGML v1.0//EN
CALSCALE:GREGORIAN
METHOD:PUBLISH
X-WR-CALNAME:Patriot Guard Riders
X-ORIGINAL-URL:https://www.patriotguard.org
X-WR-CALDESC:Events for Patriot Guard Riders
BEGIN:VTIMEZONE
TZID:America/New_York
BEGIN:DAYLIGHT
TZOFFSETFROM:-0500
TZOFFSETTO:-0400
TZNAME:EDT
DTSTART:20190310T070000
END:DAYLIGHT
BEGIN:STANDARD
TZOFFSETFROM:-0400
TZOFFSETTO:-0500
TZNAME:EST
DTSTART:20191103T060000
END:STANDARD
END:VTIMEZONE
BEGIN:VEVENT
DTSTART;VALUE=DATE:20190813
DTEND;VALUE=DATE:20190814
DTSTAMP:20210402T110038
CREATED:20190811T011409Z
LAST-MODIFIED:20190811T011525Z
UID:169974-1565654400-1565740799@www.patriotguard.org
SUMMARY:Lewis E. Beck
DESCRIPTION:Honor Mission\nLewis E. Beck\, Retired\nUSCG – Vietnam\nSan Antonio\, Texas – 08-13-19\n\n\n \n\nABOUT THE MISSION: \nThe family of Mr. Lewis E. Beck\, US Coast Guard (Retired)\, requests the presence and participation of the Patriot Guard at the graveside rendering of military honors of their loved one. Mr. Lewis Beck was in the Coast Guard from 1956-1978\, with three tours in Vietnam (1968-1971). He retired as a Master Chief Petty Officer.\n\n\nPRIMARY STAGING DETAILS: 08-13-19 \nStaging Time: 9:15 am\n \nLowe’s Home Improvement\n1470 Austin Hwy\nSan Antonio\, Texas 78209\nMap\n\n\nRide Captain: \nCraig “Last Draftee” Hunter\nHarleyman51@verizon.net\n\n\nSpecial Instructions: \nBriefing: 09:30 AM\nKSU: 09:45 AM\nInterment: 10:15 AM\nFort Sam Houston National Cemetery\n1520 Harry Wurzbach Rd\nSan Antonio\, TX 78209\nFlags: Don “Chappy” Ingram\n\nFlags & Water:\nFlags will be provided\nIf you have large bike flags\, please bring them.\nWater will be provided.\n\n\n\nSubmitted By: Lisa Menard \nPosition: Texas Ride Captain \n\nNote: You do not have to own/ride a motorcycle or be a veteran to join\, and membership is Free. The only requirement is RESPECT! To subscribe to receive mission notices\, log into the National Site and click on the Members tab at the top. Select the Subscribe to PGR Missions option.\n Print This Page
URL:https://www.patriotguard.org/mission/lewis-e-beck/
CATEGORIES:Honor Mission
END:VEVENT
END:VCALENDAR