BEGIN:VCALENDAR
VERSION:2.0
PRODID:-//Patriot Guard Riders - ECPv5.6.0//NONSGML v1.0//EN
CALSCALE:GREGORIAN
METHOD:PUBLISH
X-WR-CALNAME:Patriot Guard Riders
X-ORIGINAL-URL:https://www.patriotguard.org
X-WR-CALDESC:Events for Patriot Guard Riders
BEGIN:VTIMEZONE
TZID:America/New_York
BEGIN:DAYLIGHT
TZOFFSETFROM:-0500
TZOFFSETTO:-0400
TZNAME:EDT
DTSTART:20160313T070000
END:DAYLIGHT
BEGIN:STANDARD
TZOFFSETFROM:-0400
TZOFFSETTO:-0500
TZNAME:EST
DTSTART:20161106T060000
END:STANDARD
END:VTIMEZONE
BEGIN:VEVENT
DTSTART;TZID=America/New_York:20160623T090000
DTEND;TZID=America/New_York:20160623T110000
DTSTAMP:20210513T174136
CREATED:20160623T130000Z
LAST-MODIFIED:20191201T144913Z
UID:411118-1466672400-1466679600@www.patriotguard.org
SUMMARY:Lester Maynor\, USA
DESCRIPTION:Lester Maynor\nWWII Army\nWinnsboro\, La 71295\, 06-23-2016\n\n\n \nThe family of Lester Maynor has requested the Patriot Guard Riders to stand and honor their Hero\, one of the Greatest Generation. Born October 6\, 1919\, Lester was proudly one of the “Greatest Generation”. Lester served as a Tech 5 (Army Scout) for the Headquarters Company 20th Infantry Division from June 18\, 1941 until discharge on October 25\, 1945. He fought for his country’s freedom in World War II’s Asiatic Pacific Campaign\, seeing battle in both the Philippines – Lingayen Gulf\, and New Guinea – Luzon. For his service\, Lester earned 2 Bronze Stars\, a Bronze Arrowhead\, a Purple Heart\, the American Defense Service Medal\, and the Asiatic Pacific Operations Medal. 3 Children\, 5 Grandchildren\, 13 great-grandchildren. \nPRIMARY STAGING INFO – 06-23-2016:\nLocation:\nGill’s First National Funeral Home\n6637 Main St\,\nWinnsboro\, La 71295 \nStaging Time:\n11:00 A.M. \nSpecial Instructions:\nSTAGING/ Briefing 11:00 am Flags will be placed on rebar. A Flag line will be established. Visitation is from 12-2pm Services begin at 2 pm. Following services a short escort of about 8 miles for interment at Providence Memorial Park Cemetery. \nRCIC:\nTerry Simmons – terbek@bellsouth.net \nAssisting RCs: \nFlags will be provided.\nLarge bike flags will be needed. \nWeather:\nMostly sunny. Hi’s in the mid 90’s
URL:https://www.patriotguard.org/mission/lester-maynor-usa/
CATEGORIES:Archive
END:VEVENT
END:VCALENDAR