BEGIN:VCALENDAR
VERSION:2.0
PRODID:-//Patriot Guard Riders - ECPv5.6.0//NONSGML v1.0//EN
CALSCALE:GREGORIAN
METHOD:PUBLISH
X-WR-CALNAME:Patriot Guard Riders
X-ORIGINAL-URL:https://www.patriotguard.org
X-WR-CALDESC:Events for Patriot Guard Riders
BEGIN:VTIMEZONE
TZID:America/New_York
BEGIN:DAYLIGHT
TZOFFSETFROM:-0500
TZOFFSETTO:-0400
TZNAME:EDT
DTSTART:20160313T070000
END:DAYLIGHT
BEGIN:STANDARD
TZOFFSETFROM:-0400
TZOFFSETTO:-0500
TZNAME:EST
DTSTART:20161106T060000
END:STANDARD
END:VTIMEZONE
BEGIN:VEVENT
DTSTART;TZID=America/New_York:20160826T090000
DTEND;TZID=America/New_York:20160826T110000
DTSTAMP:20210512T042148
CREATED:20160826T130000Z
LAST-MODIFIED:20191201T143400Z
UID:409719-1472202000-1472209200@www.patriotguard.org
SUMMARY:Lester Fink
DESCRIPTION:The family of USMC veteran Lester Fink has honored the Patriot Guard by requesting we escort their loved one to his final place of rest at the Hallowed Grounds of Jefferson Barracks National Cemetery.\n\nMr Fink served our great nation as a Marine Rifleman from 1960 to 1966 earning the rank of L/Cpl\, The Good Conduct Medal\, The Rifle Marksman and Pistol Sharpshooter Badges along with numerous other awards and decorations.\n\n Mr. Fink was a lifelong motorcycle rider. \n Staging\n 0830 Friday Aug 26  (Red Shirt Friday)\n VFW Post 5327\n 1414 Hwy Z\n Wentzville Mo 63385\n\n This will be an escort only with the flag line of honor at JBNC \n SRC   Robert Smith   bobsmithesq4@gmail.com\n Flag support    Dennis Kluge \n Temperatures projected to be a high of 85°\, Dress wisely and HYDRATE   HYDRATE   HYDRATE
URL:https://www.patriotguard.org/mission/lester-fink/
CATEGORIES:Archive
END:VEVENT
END:VCALENDAR