BEGIN:VCALENDAR
VERSION:2.0
PRODID:-//Patriot Guard Riders - ECPv5.3.2.1//NONSGML v1.0//EN
CALSCALE:GREGORIAN
METHOD:PUBLISH
X-WR-CALNAME:Patriot Guard Riders
X-ORIGINAL-URL:https://www.patriotguard.org
X-WR-CALDESC:Events for Patriot Guard Riders
BEGIN:VTIMEZONE
TZID:America/New_York
BEGIN:DAYLIGHT
TZOFFSETFROM:-0500
TZOFFSETTO:-0400
TZNAME:EDT
DTSTART:20190310T070000
END:DAYLIGHT
BEGIN:STANDARD
TZOFFSETFROM:-0400
TZOFFSETTO:-0500
TZNAME:EST
DTSTART:20191103T060000
END:STANDARD
END:VTIMEZONE
BEGIN:VEVENT
DTSTART;VALUE=DATE:20190609
DTEND;VALUE=DATE:20190610
DTSTAMP:20210405T130726
CREATED:20190609T153037Z
LAST-MODIFIED:20190609T153037Z
UID:163974-1560038400-1560124799@www.patriotguard.org
SUMMARY:Lester Eugene Hill
DESCRIPTION:Honor Mission\nLester Eugene Hill \, Veteran\nUSA –\nFlorence\, Alabama – 06-09-19\n\n\n\n\nABOUT THE MISSION: \nThe family of Lester Eugene Hill has asked the Patriot Guard to honor their loved one by standing a silent flag line at his Visitation and Funeral Service with escort to him final resting place. We will be Honored to do so.Mr. Hill stood for us…..now is the time to stand for him Mr. Hill (87) was in the US Army and served with distinction.\n\n\nPRIMARY STAGING DETAILS: 06-09-19 \nStaging Time: 11:00  \nGreenview Funeral Home\n3657 Old Chisholm Rd\,\nFlorence\, Alabama 35633\n\n\nRide Captain: \n TC Dawson\ntcdawson5@gmail.com\n256-577-6577\n\n\nSpecial Instructions: \nPlace flags Set flag line Family arrives at 11:30 am Funeral to follow at 2:00 pm Internment at Greenview Memorial Park\n\nFlags & Water:\nFlags will be provided\nIf you have large bike flags\, please bring them.\nWater WILL NOT be provided\, please bring your own.\n\n\n\nSubmitted By: John Cooper \nPosition: Alabama Ride Captain \n\nNote: You do not have to own/ride a motorcycle or be a veteran to join\, and membership is Free. The only requirement is RESPECT! To subscribe to receive mission notices\, log into the National Site and click on the Members tab at the top. Select the Subscribe to PGR Missions option.\n Print This Page
URL:https://www.patriotguard.org/mission/lester-eugene-hill/
CATEGORIES:Honor Mission
END:VEVENT
END:VCALENDAR