BEGIN:VCALENDAR
VERSION:2.0
PRODID:-//Patriot Guard Riders - ECPv5.3.2.1//NONSGML v1.0//EN
CALSCALE:GREGORIAN
METHOD:PUBLISH
X-WR-CALNAME:Patriot Guard Riders
X-ORIGINAL-URL:https://www.patriotguard.org
X-WR-CALDESC:Events for Patriot Guard Riders
BEGIN:VTIMEZONE
TZID:America/New_York
BEGIN:DAYLIGHT
TZOFFSETFROM:-0500
TZOFFSETTO:-0400
TZNAME:EDT
DTSTART:20170312T070000
END:DAYLIGHT
BEGIN:STANDARD
TZOFFSETFROM:-0400
TZOFFSETTO:-0500
TZNAME:EST
DTSTART:20171105T060000
END:STANDARD
END:VTIMEZONE
BEGIN:VEVENT
DTSTART;TZID=America/New_York:20171012T124500
DTEND;TZID=America/New_York:20171012T144500
DTSTAMP:20210404T124206
CREATED:20171012T164500Z
LAST-MODIFIED:20191201T032623Z
UID:329780-1507812300-1507819500@www.patriotguard.org
SUMMARY:Lester D. Witt\, Veteran\, USN
DESCRIPTION:Lester D. Witt\, Veteran\nUSN\nTroy\, Missouri – 12 Oct 2017\n\n\n[HR][/HR]\nABOUT THE MISSION: \n\nThe PGR has been ask to stand a Flag Line  of Honor and show our Respect for US Navy Veteran Lester D. Witt . He  served from 1954 to 1958 and was an aircraft mechanic\, after the Navy  he went to Rankin Trade School and became an auto mechanic . He worked  for UPS . \nHe is survived by his wife\, 1 son and his wife\,1 grand daughter\, 2  brothers\, 1 sister\, 1 sister-in-law\, other relatives and friends . \nMr. Witt was a regular at the Lincoln County Veterans Coffee . \nKemper – Millard – Keim Family Funeral Chapel \nVisitation : 11:00 AM – 2:00 PM \nService :2:00 PM \nInterment : Troy City Cemetery\n \n\nPRIMARY STAGING DETAILS:  12 Oct 2017\nPrimary Staging Time: 12:45 P.M. \n\nKemper-Millard-Keim Family Funeral Chapel\n351 Monroe St.\nTroy\, Missouri – 63379\n\n\nRide Captain: \n\nBobby Breuer\nbobbybreuer@yahoo.com\n636 297 5363\n\n\nSpecial Instructions:\n\nFlags & Water: \n\nFlags Will Be Provided\nIf you have large bike flags\, please bring them.\nWater WILL NOT be provided\, please bring your own.\n\n\nSubmitted By: bobby breuer\nPosition: Ride Captain\n[HR][/HR]Note:\nYou do not have to own/ride a motorcycle or be a Veteran to join and membership is Free. The only requirement is RESPECT! To join\, simply go to www.PatriotGuard.org and click on Register. Membership is Free. \nTo subscribe to receive mission notices\, log into the National Site and click on the Mission Tab at the top. Select the Subscribe to Missions option.
URL:https://www.patriotguard.org/mission/lester-d-witt-veteran-usn/
END:VEVENT
END:VCALENDAR