BEGIN:VCALENDAR
VERSION:2.0
PRODID:-//Patriot Guard Riders - ECPv5.6.0//NONSGML v1.0//EN
CALSCALE:GREGORIAN
METHOD:PUBLISH
X-WR-CALNAME:Patriot Guard Riders
X-ORIGINAL-URL:https://www.patriotguard.org
X-WR-CALDESC:Events for Patriot Guard Riders
BEGIN:VTIMEZONE
TZID:America/New_York
BEGIN:DAYLIGHT
TZOFFSETFROM:-0500
TZOFFSETTO:-0400
TZNAME:EDT
DTSTART:20160313T070000
END:DAYLIGHT
BEGIN:STANDARD
TZOFFSETFROM:-0400
TZOFFSETTO:-0500
TZNAME:EST
DTSTART:20161106T060000
END:STANDARD
END:VTIMEZONE
BEGIN:VEVENT
DTSTART;TZID=America/New_York:20160607T090000
DTEND;TZID=America/New_York:20160607T110000
DTSTAMP:20210513T182623
CREATED:20160607T130000Z
LAST-MODIFIED:20191201T145430Z
UID:411594-1465290000-1465297200@www.patriotguard.org
SUMMARY:Lester Beecroft\, 94\, USN\, WWII
DESCRIPTION:Lester Beecroft\, 94\nUS Navy WWII and Korea\nSherwood\, OR\n7/JUN/16\n\n\n\nLadies and Gentlemen of the Patriot Guard Riders\, we have been invited to stand for Lester Edward Beecroft\, age 94.  Mr. Beecroft was in the US Navy and served in the Pacific during WWII as well as the Korean War.  He was a Pharmacist Mate 1st Class/Corpsman aboard a ship. Please join us as we pay our respects and honor his service to our nation. \nMission Date: Tuesday\, 7 June 2016 \nRide Captain:\nJim Kruchoski\njk4pgr@hotmail.com \nAsst. Ride Captain:\nSmokie Parrack\nrwpjr1972@gmail.com \nStaging Location:\nSt. Paul Lutheran Church\n17500 SW Cedarview Way (off Roy Rogers Road)\nSherwood\, OR 97140 \nStaging Time: 9:40am\nBriefing: 9:50am\nFlag line Set: 10:00am\nService Begins:  10:30am \n***After a short break\, flag line will reconvene at 11:00am between the church and the nearby cemetery\, as friends and family walk from the church to the graveside\, estimated to happen around 11:15am.  There will not be a flag line at graveside.  PGR will quietly depart.
URL:https://www.patriotguard.org/mission/lester-beecroft-94-usn-wwii/
CATEGORIES:Archive
END:VEVENT
END:VCALENDAR