BEGIN:VCALENDAR
VERSION:2.0
PRODID:-//Patriot Guard Riders - ECPv5.3.2.1//NONSGML v1.0//EN
CALSCALE:GREGORIAN
METHOD:PUBLISH
X-WR-CALNAME:Patriot Guard Riders
X-ORIGINAL-URL:https://www.patriotguard.org
X-WR-CALDESC:Events for Patriot Guard Riders
BEGIN:VTIMEZONE
TZID:America/New_York
BEGIN:DAYLIGHT
TZOFFSETFROM:-0500
TZOFFSETTO:-0400
TZNAME:EDT
DTSTART:20190310T070000
END:DAYLIGHT
BEGIN:STANDARD
TZOFFSETFROM:-0400
TZOFFSETTO:-0500
TZNAME:EST
DTSTART:20191103T060000
END:STANDARD
END:VTIMEZONE
BEGIN:VEVENT
DTSTART;VALUE=DATE:20190805
DTEND;VALUE=DATE:20190806
DTSTAMP:20210402T085750
CREATED:20190802T201917Z
LAST-MODIFIED:20190802T202113Z
UID:169557-1564963200-1565049599@www.patriotguard.org
SUMMARY:Leslie K Lee
DESCRIPTION:Honor Mission\nLeslie K Lee\, Veteran\nUSMC\nMaple Valley\, Washington – 08-05-19\n\n\n\nABOUT THE MISSION: \nLadies and Gentlemen we have been invited by the family of Sgt. Leslie K. Lee to attend his final military honors.  Sgt Lee served in the US Marine Corps from October\, 1981 through December\, 1988 – his sister only knew that he was a marksman.  Please let’s stand in honor of one of our Nation’s heroes.\n\n\nPRIMARY STAGING DETAILS: 08-05-19 \nStaging: 10:15 AM\n \nMcDonald’s\n23225 Maple Valley Black Diamond Hwy\nMaple Valley\, Washington 98038\n\n\nRide Captains: \nSabrina ‘Mother Hen’ Brown\npgrmotherhen@gmail.com\n206-369-1434\n\nRon Jellum\nltrsz28@hotmail.com\n206-669-8662\n\n\nSpecial Instructions: \nSCHEDULE:\nStage: 10:15 AM\nSign-in: 10:45 AM\nBrief: 11:00 AM\nKSU: 11:15 AM\nFlag-line: 11:30 AM\nService: 11:45 AM\, end of service\, quietly fade away\, debrief.\n\n\nFlags & Water:\nFlags will be provided\nLarge Bike Flags will NOT be needed.\nWater will be provided.\n\nSubmitted By: Sabrina Brown \nPosition: Washington State Captain \n\nNote: You do not have to own/ride a motorcycle or be a veteran to join\, and membership is Free. The only requirement is RESPECT! To subscribe to receive mission notices\, log into the National Site and click on the Members tab at the top. Select the Subscribe to PGR Missions option.\n Print This Page
URL:https://www.patriotguard.org/mission/leslie-k-lee/
CATEGORIES:Honor Mission
END:VEVENT
END:VCALENDAR