BEGIN:VCALENDAR
VERSION:2.0
PRODID:-//Patriot Guard Riders - ECPv5.6.0//NONSGML v1.0//EN
CALSCALE:GREGORIAN
METHOD:PUBLISH
X-WR-CALNAME:Patriot Guard Riders
X-ORIGINAL-URL:https://www.patriotguard.org
X-WR-CALDESC:Events for Patriot Guard Riders
BEGIN:VTIMEZONE
TZID:America/New_York
BEGIN:DAYLIGHT
TZOFFSETFROM:-0500
TZOFFSETTO:-0400
TZNAME:EDT
DTSTART:20160313T070000
END:DAYLIGHT
BEGIN:STANDARD
TZOFFSETFROM:-0400
TZOFFSETTO:-0500
TZNAME:EST
DTSTART:20161106T060000
END:STANDARD
END:VTIMEZONE
BEGIN:VEVENT
DTSTART;TZID=America/New_York:20160610T090000
DTEND;TZID=America/New_York:20160610T110000
DTSTAMP:20210513T130041
CREATED:20160610T130000Z
LAST-MODIFIED:20191201T145237Z
UID:411423-1465549200-1465556400@www.patriotguard.org
SUMMARY:Leslie Christopher Gray\, 31\, USMC
DESCRIPTION:Leslie Christopher Gray\, 31\nUS Marine Corps GWOT Veteran\nMississippi Veterans Memorial Cemetery\nNewton\, Mississippi\nFriday 10 June 2016 12:00 PM\n\n\n\nWe are saddened to report the death of Leslie Christopher Gray. Mr. Gray served in the United States Marine Corps 2004-2005 and attained the rank of E-5 Sergeant. Sgt Gray was awarded the Iraq Campaign Medal (2nd device)\, Korean Defense Service Medal and the Global War on Terrorism medal. His nickname was Gravy. \nVisitation will be 9 June 2016\, 5:00-7:00 PM at\nRobert Barham Family Funeral Home\n6300 Hwy 39 North\nMeridian\, MS 39305 \nStaging: 10 June 2016 1030 hrs\nMississippi Veterans Memorial Cemetery\nNewton\, MS \nPGR will depart Mississippi Veterans Memorial Cemetery and escort Mr. Gray from Lost Gap/Meehan Junction to the Cemetery for a 12:00 PM service. \nThe PGR will participate in the rendering of Military Honors. \nRC: Terry McMillan\n601-940-0333\nTerry.Mc@att.net
URL:https://www.patriotguard.org/mission/leslie-christopher-gray-31-usmc/
CATEGORIES:Archive
END:VEVENT
END:VCALENDAR