BEGIN:VCALENDAR
VERSION:2.0
PRODID:-//Patriot Guard Riders - ECPv5.3.2.1//NONSGML v1.0//EN
CALSCALE:GREGORIAN
METHOD:PUBLISH
X-WR-CALNAME:Patriot Guard Riders
X-ORIGINAL-URL:https://www.patriotguard.org
X-WR-CALDESC:Events for Patriot Guard Riders
BEGIN:VTIMEZONE
TZID:America/New_York
BEGIN:DAYLIGHT
TZOFFSETFROM:-0500
TZOFFSETTO:-0400
TZNAME:EDT
DTSTART:20190310T070000
END:DAYLIGHT
BEGIN:STANDARD
TZOFFSETFROM:-0400
TZOFFSETTO:-0500
TZNAME:EST
DTSTART:20191103T060000
END:STANDARD
END:VTIMEZONE
BEGIN:VEVENT
DTSTART;VALUE=DATE:20190914
DTEND;VALUE=DATE:20190915
DTSTAMP:20210401T075551
CREATED:20190910T143758Z
LAST-MODIFIED:20190910T202920Z
UID:173364-1568419200-1568505599@www.patriotguard.org
SUMMARY:Leslie Arthur Green
DESCRIPTION:Honor Mission\nLeslie Arthur Green\, Veteran\nUSA – Vietnam\nCleveland\, Georgia – 09-14-19\n\n\n ABOUT THE MISSION:\n\n\nThe family of Mr. Leslie Green\, US Army Vietnam Veteran has requested the PGR to be present and escort about 10 miles to the cemetery. We have informed the family that it would be our honor.\n\n\nPRIMARY STAGING DETAILS: 09-14-19 \nStaging Time: 10:00 am \nBarrett Funeral Home\n118 N. Brooks St.\nCleveland\, Georgia 30528\n\n\nRide Captain: \nSteve “Bendusty” Wortham\n706-202-3419\nstevewortham@hotmail.com\n\n\nSpecial Instructions: \nWe will have a short briefing at 10:00 am. PGR will set up a flag line at 10:15 am for the 11:00 am service. When the service begins we will break down and prepare for the approximately 10 mile LEO led escort to the cemetery.\n\n\nFlags & Water:\nFlags will be provided\nIf you have large bike flags\, please bring them.\nWater will be provided.\n\n\n\nSubmitted By: WALTER WORTHAM \nPosition: Georgia Ride Captain \n\nNote: You do not have to own/ride a motorcycle or be a veteran to join\, and membership is Free. The only requirement is RESPECT! To subscribe to receive mission notices\, log into the National Site and click on the Members tab at the top. Select the Subscribe to PGR Missions option.\n Print This Page
URL:https://www.patriotguard.org/mission/leslie-arthur-green/
CATEGORIES:Honor Mission
END:VEVENT
END:VCALENDAR