BEGIN:VCALENDAR
VERSION:2.0
PRODID:-//Patriot Guard Riders - ECPv5.3.2.1//NONSGML v1.0//EN
CALSCALE:GREGORIAN
METHOD:PUBLISH
X-WR-CALNAME:Patriot Guard Riders
X-ORIGINAL-URL:https://www.patriotguard.org
X-WR-CALDESC:Events for Patriot Guard Riders
BEGIN:VTIMEZONE
TZID:America/New_York
BEGIN:DAYLIGHT
TZOFFSETFROM:-0500
TZOFFSETTO:-0400
TZNAME:EDT
DTSTART:20190310T070000
END:DAYLIGHT
BEGIN:STANDARD
TZOFFSETFROM:-0400
TZOFFSETTO:-0500
TZNAME:EST
DTSTART:20191103T060000
END:STANDARD
END:VTIMEZONE
BEGIN:VEVENT
DTSTART;VALUE=DATE:20190423
DTEND;VALUE=DATE:20190424
DTSTAMP:20210404T104552
CREATED:20190422T101610Z
LAST-MODIFIED:20190422T101610Z
UID:158041-1555977600-1556063999@www.patriotguard.org
SUMMARY:Leslie Allen Bohrer
DESCRIPTION:Honor Mission\nLeslie Allen Bohrer\, Veteran\nUSMC\, USMCR – Vietnam\nMULTI-CITY\, Kansas – 04-23-19\n\n\n\n\nABOUT THE MISSION: \nThe Patriot Guard Riders will escort SGT Leslie A. Bohrer\, United States Marine Corps\, Vietnam veteran to his final resting place at Leavenworth National (VA) Cemetery. During his military career\, SGT. Bohrer was awarded the National Defense Medal\, Vietnam Service Medal w/ 5 Stars\, Vietnam Campaign Medal w/ device\, Combat Action Ribbon\, Good Conduct Medal and Purple Heart. He worked as an officer for the Kansas City\, Kansas Police Department for 26 years\, retiring as a Lieutenant. He then went on to work as a district supervisor for the U.S. Marshall Service.\n\n\nPRIMARY STAGING DETAILS: 04-23-19 \nStaging Time: 9:15 a.m.  \nAmos Family Funeral Home Parking Lot\n10901 Johnson Drive\nShawnee\, Kansas 66203\n\n\nRide Captain: \nBruce (Medic) Holmes\, bholmes5@kc.rr.com\, 913-901-7722\n\n\nSpecial Instructions: \nRide Meeting – 9:30 am\, escort to follow. \nPlease do not rev your engine when arriving at the parking lot to stage. The funeral service will be in process. \n\n\nFlags & Water:\nFlags will not be provided\nIf you have large bike flags\, please bring them.\nWater WILL NOT be provided\, please bring your own.\n\nSubmitted By: Bruce Holmes \nPosition: Kansas State Captain \n\nNote: You do not have to own/ride a motorcycle or be a veteran to join\, and membership is Free. The only requirement is RESPECT! To subscribe to receive mission notices\, log into the National Site and click on the Members tab at the top. Select the Subscribe to PGR Missions option.\n Print This Page
URL:https://www.patriotguard.org/mission/leslie-allen-bohrer/
CATEGORIES:Honor Mission
END:VEVENT
END:VCALENDAR