BEGIN:VCALENDAR
VERSION:2.0
PRODID:-//Patriot Guard Riders - ECPv5.6.0//NONSGML v1.0//EN
CALSCALE:GREGORIAN
METHOD:PUBLISH
X-WR-CALNAME:Patriot Guard Riders
X-ORIGINAL-URL:https://www.patriotguard.org
X-WR-CALDESC:Events for Patriot Guard Riders
BEGIN:VTIMEZONE
TZID:America/New_York
BEGIN:DAYLIGHT
TZOFFSETFROM:-0500
TZOFFSETTO:-0400
TZNAME:EDT
DTSTART:20160313T070000
END:DAYLIGHT
BEGIN:STANDARD
TZOFFSETFROM:-0400
TZOFFSETTO:-0500
TZNAME:EST
DTSTART:20161106T060000
END:STANDARD
END:VTIMEZONE
BEGIN:VEVENT
DTSTART;TZID=America/New_York:20160815T090000
DTEND;TZID=America/New_York:20160815T110000
DTSTAMP:20210511T204300
CREATED:20160815T130000Z
LAST-MODIFIED:20191201T143629Z
UID:409948-1471251600-1471258800@www.patriotguard.org
SUMMARY:Les Gravlin\, USA
DESCRIPTION:SP4 Les Gravlin\nUS Army Vietnam Veteran\nSt Helen\, MI.\nMonday\, 15 August 2016\n\n\n\nThe Patriot Guard Riders have been invited to stand a silent Honor Flag Line for US Army SP4 Les Gravlin. \nLes served in Vietnam. Ruth stated that Les wants “Proud Vietnam Veteran” on his headstone. \nSERVICE: Monday\, 15 August 2016 \nLocation:\nSteuernol-McLaren Funeral Home\n702 N. St. Helen Rd.\nSt Helen\,  MI 48656\nMap: http://mapq.st/2bjD2Qs \nMonday\, 15 August 2016 \nFlag-line 11-3 pm \nService at 4:00 pm \nDinner following at St. Helen Catholic Church (across the street) \nRC:\nMike Allumi\n(989)387-0319
URL:https://www.patriotguard.org/mission/les-gravlin-usa/
CATEGORIES:Archive
END:VEVENT
END:VCALENDAR