BEGIN:VCALENDAR
VERSION:2.0
PRODID:-//Patriot Guard Riders - ECPv5.3.2.1//NONSGML v1.0//EN
CALSCALE:GREGORIAN
METHOD:PUBLISH
X-WR-CALNAME:Patriot Guard Riders
X-ORIGINAL-URL:https://www.patriotguard.org
X-WR-CALDESC:Events for Patriot Guard Riders
BEGIN:VTIMEZONE
TZID:America/New_York
BEGIN:DAYLIGHT
TZOFFSETFROM:-0500
TZOFFSETTO:-0400
TZNAME:EDT
DTSTART:20190310T070000
END:DAYLIGHT
BEGIN:STANDARD
TZOFFSETFROM:-0400
TZOFFSETTO:-0500
TZNAME:EST
DTSTART:20191103T060000
END:STANDARD
END:VTIMEZONE
BEGIN:VEVENT
DTSTART;VALUE=DATE:20190621
DTEND;VALUE=DATE:20190622
DTSTAMP:20210405T020407
CREATED:20190615T204140Z
LAST-MODIFIED:20190615T204643Z
UID:164849-1561075200-1561161599@www.patriotguard.org
SUMMARY:Leroy Sieve
DESCRIPTION:Honor Mission\nLeroy Sieve\, Veteran\nUSA\nUnion\, Missouri – 06-21-19\n\n\n\n\nABOUT THE MISSION: \nPatriot Guard Riders\, we have been invited by family and friends to honor a member of the U.S. Army.  Please join us in standing a flag line of honor for Army veteran Leroy Sieve just as he once stood for us.\n\n\nPRIMARY STAGING DETAILS: 06-21-19 \nStaging Time:  9:30 AM \n140 Corporate Drive\nUnion\, Missouri 63084\n\n\nRide Captain: \nMike Albers\nhuck3517@yahoo.com\n\n\nSpecial Instructions: \nSTAGE:      9:30AM with meeting to follow\nESCORT:  10:00 AM escort to Jefferson Barracks\nSERVICE: 11:30 AM Jefferson Barracks\nFLAG SUPPORT:  Mike “moose” Hanewinkel\n\nFlags & Water:\nFlags will be provided\nIf you have large bike flags\, please bring them.\nWater will be provided.\n\n\n\nSubmitted By: Michael Albers \nPosition: Missouri Ride Captain \n\nNote: You do not have to own/ride a motorcycle or be a veteran to join\, and membership is Free. The only requirement is RESPECT! To subscribe to receive mission notices\, log into the National Site and click on the Members tab at the top. Select the Subscribe to PGR Missions option.\n Print This Page
URL:https://www.patriotguard.org/mission/leroy-sieve/
CATEGORIES:Honor Mission
END:VEVENT
END:VCALENDAR