BEGIN:VCALENDAR
VERSION:2.0
PRODID:-//Patriot Guard Riders - ECPv5.3.2.1//NONSGML v1.0//EN
CALSCALE:GREGORIAN
METHOD:PUBLISH
X-WR-CALNAME:Patriot Guard Riders
X-ORIGINAL-URL:https://www.patriotguard.org
X-WR-CALDESC:Events for Patriot Guard Riders
BEGIN:VTIMEZONE
TZID:America/New_York
BEGIN:DAYLIGHT
TZOFFSETFROM:-0500
TZOFFSETTO:-0400
TZNAME:EDT
DTSTART:20190310T070000
END:DAYLIGHT
BEGIN:STANDARD
TZOFFSETFROM:-0400
TZOFFSETTO:-0500
TZNAME:EST
DTSTART:20191103T060000
END:STANDARD
END:VTIMEZONE
BEGIN:VEVENT
DTSTART;VALUE=DATE:20190907
DTEND;VALUE=DATE:20190908
DTSTAMP:20210401T133055
CREATED:20190906T142444Z
LAST-MODIFIED:20190906T142444Z
UID:172993-1567814400-1567900799@www.patriotguard.org
SUMMARY:Leroy M. Walters
DESCRIPTION:Honor Mission\nLeroy M. Walters\, Veteran\nUSA\nSpringfield\, Missouri – 09-07-19\n\n\n \n\nABOUT THE MISSION: \nThe family and loved ones of hero SP4 Leroy Walters have honored the Patriot Guard Riders with a request to stand a flag line at his service and then to escort their loved one to his final resting place\, where full military honors will be rendered. Hero Walters married his high school sweetheart\, Verma June Jones who survives him as well as a brother\, three sisters and numerous nephews\, nieces\, cousins\, many neighbors and friends. Hero Walters worked for several soft drink bottling companies after his service as well as the Caterpillar Tractor Co. of Joliet\, IL\, retiring with 30 years of service. He was an avid antique car collector and loved to travel and camp. He moved back to Springfield after retirement.\n\n\nPRIMARY STAGING DETAILS: 09-07-19 \nStaging Time: 12:00 pm\n \nWalnut Lawn Funeral Home\n2001 W. Walnut Lawn\nSpringfield\, Missouri\n\n\nRide Captain: \nRick Starkey\n(417) 533-4845\nFire926usa@gmail.com\n\n\nSpecial Instructions: \n\n\nFlags & Water:\nFlags will be provided\nIf you have large bike flags\, please bring them.\nWater WILL NOT be provided\, please bring your own.\n\n\n\nSubmitted By: Kent McGregor \nPosition: Missouri Ride Captain \n\nNote: You do not have to own/ride a motorcycle or be a veteran to join\, and membership is Free. The only requirement is RESPECT! To subscribe to receive mission notices\, log into the National Site and click on the Members tab at the top. Select the Subscribe to PGR Missions option.\n Print This Page
URL:https://www.patriotguard.org/mission/leroy-m-walters/
CATEGORIES:Honor Mission
END:VEVENT
END:VCALENDAR