BEGIN:VCALENDAR
VERSION:2.0
PRODID:-//Patriot Guard Riders - ECPv5.3.2.1//NONSGML v1.0//EN
CALSCALE:GREGORIAN
METHOD:PUBLISH
X-WR-CALNAME:Patriot Guard Riders
X-ORIGINAL-URL:https://www.patriotguard.org
X-WR-CALDESC:Events for Patriot Guard Riders
BEGIN:VTIMEZONE
TZID:America/New_York
BEGIN:DAYLIGHT
TZOFFSETFROM:-0500
TZOFFSETTO:-0400
TZNAME:EDT
DTSTART:20190310T070000
END:DAYLIGHT
BEGIN:STANDARD
TZOFFSETFROM:-0400
TZOFFSETTO:-0500
TZNAME:EST
DTSTART:20191103T060000
END:STANDARD
END:VTIMEZONE
BEGIN:VEVENT
DTSTART;TZID=America/New_York:20190625T000000
DTEND;TZID=America/New_York:20190625T000000
DTSTAMP:20210405T060144
CREATED:20190625T121953Z
LAST-MODIFIED:20190625T121953Z
UID:165712-1561420800-1561420800@www.patriotguard.org
SUMMARY:LeRoy Glenn Hayes\, Sr.
DESCRIPTION:Honor Mission\nLeRoy Glenn Hayes\, Sr.\, Retired\nNCARNG\nRocky Mount\, North Carolina – 06-26-19\n\n\n\n\nABOUT THE MISSION: \nPatriots\,\nWe have been requested to stand for another of North Carolina’s finest. Sgt. LeRoy Glenn Hayes Sr.\, Army National Guard.\n\n\n\nPRIMARY STAGING DETAILS: 06-26-19 \nStaging Time: 9:15 am\n \nWheeler and Woodleaf Funeral Home\n1130 N Winstead Ave\nRocky Mount\, North Carolina 27804\n\n\nRide Captain: \nCharles Bullock Sr\n919-906-3641\n\n\nSpecial Instructions: \nThis will be a flag line mission during his funeral service followed by an escort to his final resting place in the Rocky Mount Memorial Park.\n\n\nFlags & Water:\nFlags will be provided\nIf you have large bike flags\, please bring them.\nWater WILL NOT be provided\, please bring your own.\n\n\n\nSubmitted By: Roy Hankinson \nPosition: North Carolina Assistant State Captain \n\nNote: You do not have to own/ride a motorcycle or be a veteran to join\, and membership is Free. The only requirement is RESPECT! To subscribe to receive mission notices\, log into the National Site and click on the Members tab at the top. Select the Subscribe to PGR Missions option.\n Print This Page
URL:https://www.patriotguard.org/mission/leroy-glenn-hayes-sr/
CATEGORIES:Honor Mission
END:VEVENT
END:VCALENDAR