BEGIN:VCALENDAR
VERSION:2.0
PRODID:-//Patriot Guard Riders - ECPv5.3.2.1//NONSGML v1.0//EN
CALSCALE:GREGORIAN
METHOD:PUBLISH
X-WR-CALNAME:Patriot Guard Riders
X-ORIGINAL-URL:https://www.patriotguard.org
X-WR-CALDESC:Events for Patriot Guard Riders
BEGIN:VTIMEZONE
TZID:America/New_York
BEGIN:DAYLIGHT
TZOFFSETFROM:-0500
TZOFFSETTO:-0400
TZNAME:EDT
DTSTART:20180311T070000
END:DAYLIGHT
BEGIN:STANDARD
TZOFFSETFROM:-0400
TZOFFSETTO:-0500
TZNAME:EST
DTSTART:20181104T060000
END:STANDARD
END:VTIMEZONE
BEGIN:VEVENT
DTSTART;TZID=America/New_York:20180505T115000
DTEND;TZID=America/New_York:20180505T135000
DTSTAMP:20210403T122305
CREATED:20180505T155000Z
LAST-MODIFIED:20200717T004828Z
UID:327616-1525521000-1525528200@www.patriotguard.org
SUMMARY:LeRay Crumes\, Veteran\, USA\, USAR
DESCRIPTION:Honor Mission\nLeRay Crumes\, Veteran\nUSA USAR\nWentzville\, Missouri – 05 May 2018\n\n\nABOUT THE MISSION: \nThe family of LeRay Crumes has requested the Patriot Guard to stand a flag line honoring their hero and loved one and to escort him to his final resting place. Private Crumes proudly served in the United States Army and Army Reserve. He was awarded the National Defense Service Medal and Good Conduct Medal. He is well-loved and will be greatly missed by his family and many friends.\nPRIMARY STAGING DETAILS: 05 May 2018\nPrimary Staging Time: 11:50 A.M. \nPitman Funeral\n1545 Wentzville Parkway\nWentzville\, Missouri –\nRide Captain: \n“Sister Mary” O’Brien\n636.345.6393\nthefinnagain@gnmail.com\n\nSpecial Instructions: \n11:50 a.m. Ride Meeting\n12:00 P.M. Flag Line\n1 p.m. Funeral Service\n\nEscort to Eternal Peace Cemetery [East Pitman Road\, Wentzville] immediately following the service. Cemetery road is gravel. \nFlags & Support: “Wolfman” Reinbold \n\nFlags & Water: \nFlags Will Be Provided\nIf you have large bike flags\, please bring them.\nWater will be provided.\n  \n\nSubmitted By: Mary O’Brien\nPosition: Ride Captain\n \n\nNote:\nYou do not have to own/ride a motorcycle or be a Veteran to join and membership is Free. The only requirement is RESPECT! To join\, simply go to www.PatriotGuard.org and click on Register. Membership is Free. \nTo subscribe to receive mission notices\, log into the National Site and click on the Mission Tab at the top. Select the Subscribe to Missions option.
URL:https://www.patriotguard.org/mission/leray-crumes-veteran-usa-usar/
CATEGORIES:Honor Mission
END:VEVENT
END:VCALENDAR