BEGIN:VCALENDAR
VERSION:2.0
PRODID:-//Patriot Guard Riders - ECPv5.3.2.1//NONSGML v1.0//EN
CALSCALE:GREGORIAN
METHOD:PUBLISH
X-WR-CALNAME:Patriot Guard Riders
X-ORIGINAL-URL:https://www.patriotguard.org
X-WR-CALDESC:Events for Patriot Guard Riders
BEGIN:VTIMEZONE
TZID:America/New_York
BEGIN:DAYLIGHT
TZOFFSETFROM:-0500
TZOFFSETTO:-0400
TZNAME:EDT
DTSTART:20170312T070000
END:DAYLIGHT
BEGIN:STANDARD
TZOFFSETFROM:-0400
TZOFFSETTO:-0500
TZNAME:EST
DTSTART:20171105T060000
END:STANDARD
END:VTIMEZONE
BEGIN:VEVENT
DTSTART;TZID=America/New_York:20171102T170000
DTEND;TZID=America/New_York:20171102T190000
DTSTAMP:20210406T024626
CREATED:20171102T210000Z
LAST-MODIFIED:20191201T033908Z
UID:338688-1509642000-1509649200@www.patriotguard.org
SUMMARY:Leonard Richard Fisher\, Veteran\, USA - Vietnam
DESCRIPTION:SP4 Leonard Richard Fisher\, Veteran\nUSA  – Vietnam\nEnglewood\, Ohio – 02 Nov 2017\n\n\n[HR][/HR]\nABOUT THE MISSION: \n\nPlease join us as we stand a flag line and pay a silent tribute to this fallen American Veteran. \nObituary:  http://tinyurl.com/y9ce3zxf\n\n\nPRIMARY STAGING DETAILS:  02 Nov 2017\nPrimary Staging Time: 5:00 P.M. \n\nVisitation/Service:\nEnglewood Christian Assembly of God\n415 N. Main Street\nEnglewood\, Ohio – 45322\nMap to Church: https://binged.it/2lDdoOO\n\n\nRide Captain: \n\nClarence Spencer cjspencer@woh.rr.com\n\n\nSpecial Instructions:\n\nFlags & Water: \n\nFlags Will NOT Be Provided\, Please Bring Your Own.\nLarge Bike Flags will NOT be needed.\nWater WILL NOT be provided\, please bring your own.\n\n\nSubmitted By: Robert Woods\nPosition: State Captain\n[HR][/HR]Note:\nYou do not have to own/ride a motorcycle or be a Veteran to join and membership is Free. The only requirement is RESPECT! To join\, simply go to www.PatriotGuard.org and click on Register. Membership is Free. \nTo subscribe to receive mission notices\, log into the National Site and click on the Mission Tab at the top. Select the Subscribe to Missions option.
URL:https://www.patriotguard.org/mission/leonard-richard-fisher-veteran-usa-vietnam/
END:VEVENT
END:VCALENDAR