BEGIN:VCALENDAR
VERSION:2.0
PRODID:-//Patriot Guard Riders - ECPv5.3.2.1//NONSGML v1.0//EN
CALSCALE:GREGORIAN
METHOD:PUBLISH
X-WR-CALNAME:Patriot Guard Riders
X-ORIGINAL-URL:https://www.patriotguard.org
X-WR-CALDESC:Events for Patriot Guard Riders
BEGIN:VTIMEZONE
TZID:America/New_York
BEGIN:DAYLIGHT
TZOFFSETFROM:-0500
TZOFFSETTO:-0400
TZNAME:EDT
DTSTART:20190310T070000
END:DAYLIGHT
BEGIN:STANDARD
TZOFFSETFROM:-0400
TZOFFSETTO:-0500
TZNAME:EST
DTSTART:20191103T060000
END:STANDARD
END:VTIMEZONE
BEGIN:VEVENT
DTSTART;VALUE=DATE:20190629
DTEND;VALUE=DATE:20190630
DTSTAMP:20210405T140645
CREATED:20190628T014438Z
LAST-MODIFIED:20190628T014438Z
UID:166143-1561766400-1561852799@www.patriotguard.org
SUMMARY:Leonard James Burns
DESCRIPTION:Honor Mission\nLeonard James Burns\, Veteran\nUSA – Korea\nSt. Clair\, Missouri – 06-29-19\n\n\n\nABOUT THE MISSION: \nThe family of Leonard J. Burns has respectfully requested the Patriot Guard Riders to attend their loved ones services\, stand Flag Line\, and escort their loved one to his final resting place at Crestview Memorial Parkl\, in St. Clair Mo. Leonard Burns served in the U. S\, Army earning the rank of Corporal during the Korean War Era.\n\n\nPRIMARY STAGING DETAILS: 06-29-19 \nStaging Time: 10:45 AM\n \nRussell Colonial Funeral Home\n530 E Springfield Rd\,\nSt. Clair\, Missouri 63077\n\n\nRide Captain: \nJerry “Zipper” Craft\n314-574-8706\nFixit82@Aol.Com\n\nFlags/Support: Mike “Jenky” Jenkins\n\n\nSpecial Instructions: \nStage: 10:45 am\nRide Meeting to Follow.\nHydrate\, Hydrate\, Hydrate\nHigh 91Deg with a 20% chance for rain.\nCages Welcome\, Dress Accordingly Drive Defensively.\n\n\nFlags & Water:\nFlags will be provided\nIf you have large bike flags\, please bring them.\nWater will be provided.\n\n\n\nSubmitted By: Jerry Craft \nPosition: \n\nNote: You do not have to own/ride a motorcycle or be a veteran to join\, and membership is Free. The only requirement is RESPECT! To subscribe to receive mission notices\, log into the National Site and click on the Members tab at the top. Select the Subscribe to PGR Missions option.\n Print This Page
URL:https://www.patriotguard.org/mission/leonard-james-burns/
CATEGORIES:Honor Mission
END:VEVENT
END:VCALENDAR