BEGIN:VCALENDAR
VERSION:2.0
PRODID:-//Patriot Guard Riders - ECPv5.3.2.1//NONSGML v1.0//EN
CALSCALE:GREGORIAN
METHOD:PUBLISH
X-WR-CALNAME:Patriot Guard Riders
X-ORIGINAL-URL:https://www.patriotguard.org
X-WR-CALDESC:Events for Patriot Guard Riders
BEGIN:VTIMEZONE
TZID:America/New_York
BEGIN:DAYLIGHT
TZOFFSETFROM:-0500
TZOFFSETTO:-0400
TZNAME:EDT
DTSTART:20170312T070000
END:DAYLIGHT
BEGIN:STANDARD
TZOFFSETFROM:-0400
TZOFFSETTO:-0500
TZNAME:EST
DTSTART:20171105T060000
END:STANDARD
END:VTIMEZONE
BEGIN:VEVENT
DTSTART;TZID=America/New_York:20170129T140000
DTEND;TZID=America/New_York:20170129T160000
DTSTAMP:20210405T222522
CREATED:20170129T190000Z
LAST-MODIFIED:20191201T032932Z
UID:332361-1485698400-1485705600@www.patriotguard.org
SUMMARY:Leonard Hodges \, Veteran\, USA - Fulton\, Missouri - 29\, 30 Jan 2017
DESCRIPTION:Leonard Hodges\, Veteran\n    USA\nFulton\, Missouri\n29 Jan 2017\n=============================================\n\nAbout the Mission:\nCWO3 Leonard Hodges U.S. Army retired. 22 years of service Retired 1996 \nPrimary Staging Details:  29 Jan 2017 \n\nPrimary Staging Time:  2 P.M.\nDebo Funeral Home\n833 Court Street\nFulton\, Missouri – 65251\n\n\nRide Captain: \n\nBill Weldon\nsearchdog@rocketmail.com\n(573) 253-5918\n\n\nSpecial Instructions: \n\nWatch the weather forecast and dress accordingly.\n\n\nFlags: \n\nFlags Will Be Provided\n\n\nIf you have large bike flags\, please bring them.\n\n\nWater will be provided.\n\n===========================\n\nStaging #2 Details:  30 Jan\, 2017 \n\nStaging #2 Time:  10 A.M.\nProvidence Baptist Church\n426 Glenwood Dr.\nNew Bloomfield\, Missouri – 65063\n\n\nRide Captain: \n\nBill Weldon\nsearchdog@rocketmail.com\n(573) 253-5918\n\n\nSpecial Instructions: \n\nDress accordingly\n\n\nFlags: \n\nFlags Will Be Provided\n\n\nLarge Bike Flags will be needed\n\n\nWater will be provided.\n\n\nSubmitted By:   Reed Hickam\nPosition:   Ride Captain \n===========================\nNote:\nYou do not have to own/ride a motorcycle or be a Veteran to join and membership is Free. The only requirement is RESPECT! To join\, simply go to www.PatriotGuard.org and click on Register. Membership is Free. \nTo subscribe to receive mission notices\, log into the National Site and click on the Mission Tab at the top. Select Upcoming Missions by State.  Scroll to the state(s) you would like to receive notices for and click  on the green check mark. Detailed instructions are also located in the  FAQs on the site by clicking on the Quick Links Tab and selecting FAQs.
URL:https://www.patriotguard.org/mission/leonard-hodges-veteran-usa-fulton-missouri-29-30-jan-2017/
END:VEVENT
END:VCALENDAR