BEGIN:VCALENDAR
VERSION:2.0
PRODID:-//Patriot Guard Riders - ECPv5.3.2.1//NONSGML v1.0//EN
CALSCALE:GREGORIAN
METHOD:PUBLISH
X-WR-CALNAME:Patriot Guard Riders
X-ORIGINAL-URL:https://www.patriotguard.org
X-WR-CALDESC:Events for Patriot Guard Riders
BEGIN:VTIMEZONE
TZID:America/New_York
BEGIN:DAYLIGHT
TZOFFSETFROM:-0500
TZOFFSETTO:-0400
TZNAME:EDT
DTSTART:20190310T070000
END:DAYLIGHT
BEGIN:STANDARD
TZOFFSETFROM:-0400
TZOFFSETTO:-0500
TZNAME:EST
DTSTART:20191103T060000
END:STANDARD
END:VTIMEZONE
BEGIN:VEVENT
DTSTART;VALUE=DATE:20190822
DTEND;VALUE=DATE:20190823
DTSTAMP:20210402T102908
CREATED:20190820T193739Z
LAST-MODIFIED:20190820T193821Z
UID:171432-1566432000-1566518399@www.patriotguard.org
SUMMARY:Leon Nathan Donelson III
DESCRIPTION:Honor Mission\nLeon Nathan Donelson III\, Veteran\nUSMC\nLicking\, Missouri – 08-22-19\n\n\n\nABOUT THE MISSION: \nThe Patriot Guard will stand a silent flag line for Leon N. Donelson and escort him to his final resting place for full Military Honors.\n\n\nPRIMARY STAGING DETAILS: 08-22-19 \nStaging Time: 3:00 pm \nLicking High School Gym\n125 College Ave\nLicking\, Missouri 65542\n\n\nRide Captain: \nBlake Flieg\n314-210-3963\nm3boxers@icloud.com\n\n\nSpecial Instructions: \n3:00 PM Stage at High School Gym in Licking\n3:15 PM RC briefing\n3:30 PM Flag Line\n4:00 PM Service with escort to follow going to\nBoone Creek Cemetery Hwy 137\nLicking\, Missouri\nTemps to be 80 degree with possible Thunderstorms.\n\n\nFlags & Water:\nFlags will be provided\nIf you have large bike flags\, please bring them.\nWater will be provided.\n\n\nSubmitted By: Ken Kelly \nPosition: Missouri Ride Captain \n\nNote: You do not have to own/ride a motorcycle or be a veteran to join\, and membership is Free. The only requirement is RESPECT! To subscribe to receive mission notices\, log into the National Site and click on the Members tab at the top. Select the Subscribe to PGR Missions option.\n Print This Page
URL:https://www.patriotguard.org/mission/leon-nathan-donelson-iii/
CATEGORIES:Honor Mission
END:VEVENT
END:VCALENDAR